BEGIN:VCALENDAR
VERSION:2.0
PRODID:-//Truganina P-9 College - ECPv6.14.1//NONSGML v1.0//EN
CALSCALE:GREGORIAN
METHOD:PUBLISH
X-ORIGINAL-URL:https://truganinap9.vic.edu.au
X-WR-CALDESC:Events for Truganina P-9 College
REFRESH-INTERVAL;VALUE=DURATION:PT1H
X-Robots-Tag:noindex
X-PUBLISHED-TTL:PT1H
BEGIN:VTIMEZONE
TZID:Australia/Melbourne
BEGIN:STANDARD
TZOFFSETFROM:+1100
TZOFFSETTO:+1000
TZNAME:AEST
DTSTART:20240406T160000
END:STANDARD
BEGIN:DAYLIGHT
TZOFFSETFROM:+1000
TZOFFSETTO:+1100
TZNAME:AEDT
DTSTART:20241005T160000
END:DAYLIGHT
END:VTIMEZONE
BEGIN:VEVENT
DTSTART;TZID=Australia/Melbourne:20240805T110000
DTEND;TZID=Australia/Melbourne:20240809T150000
DTSTAMP:20260420T171707
CREATED:20240806T061947Z
LAST-MODIFIED:20240806T062001Z
UID:282499-1722855600-1723215600@truganinap9.vic.edu.au
SUMMARY:Year 3 Swimming Program
DESCRIPTION:Students in Year 3
URL:https://truganinap9.vic.edu.au/event/year-3-swimming-program/
LOCATION:Saltwater Swim School\,\, 2 Shear Street\, Truganina\, Victoria\, 3029\, Australia
CATEGORIES:Year 3
END:VEVENT
BEGIN:VEVENT
DTSTART;TZID=Australia/Melbourne:20240806T080000
DTEND;TZID=Australia/Melbourne:20240806T170000
DTSTAMP:20260420T171707
CREATED:20240527T060046Z
LAST-MODIFIED:20240527T060052Z
UID:282186-1722931200-1722963600@truganinap9.vic.edu.au
SUMMARY:Australian Maths Competition - Years 3 & 7
DESCRIPTION:Selected students in Years 3 & 7
URL:https://truganinap9.vic.edu.au/event/australian-maths-competition-years-3-7/
CATEGORIES:Year 3,Year 7
END:VEVENT
BEGIN:VEVENT
DTSTART;TZID=Australia/Melbourne:20240806T081500
DTEND;TZID=Australia/Melbourne:20240806T150000
DTSTAMP:20260420T171707
CREATED:20240806T062255Z
LAST-MODIFIED:20240806T062304Z
UID:282502-1722932100-1722956400@truganinap9.vic.edu.au
SUMMARY:Year 7 & 8 Rugby - Cameron Smith Shield
DESCRIPTION:Selected students in Year 7 & 8
URL:https://truganinap9.vic.edu.au/event/year-7-8-rugby-cameron-smith-shield/
LOCATION:Seabrook Reserve\, Goulburn St\, Broadmeadows\, VIC\, 3047\, Australia
CATEGORIES:Year 7,Year 8
END:VEVENT
BEGIN:VEVENT
DTSTART;TZID=Australia/Melbourne:20240806T130000
DTEND;TZID=Australia/Melbourne:20240806T150000
DTSTAMP:20260420T171707
CREATED:20240806T062506Z
LAST-MODIFIED:20240806T062512Z
UID:282505-1722949200-1722956400@truganinap9.vic.edu.au
SUMMARY:Year 9 Outdoor Ed - Planting of Native Grasses & Shrubs
DESCRIPTION:Selected students in Year 9
URL:https://truganinap9.vic.edu.au/event/year-9-outdoor-ed-planting-of-native-grasses-shrubs/
CATEGORIES:Year 9
END:VEVENT
END:VCALENDAR