BEGIN:VCALENDAR
VERSION:2.0
PRODID:-//Truganina P-9 College - ECPv6.14.1//NONSGML v1.0//EN
CALSCALE:GREGORIAN
METHOD:PUBLISH
X-ORIGINAL-URL:https://truganinap9.vic.edu.au
X-WR-CALDESC:Events for Truganina P-9 College
REFRESH-INTERVAL;VALUE=DURATION:PT1H
X-Robots-Tag:noindex
X-PUBLISHED-TTL:PT1H
BEGIN:VTIMEZONE
TZID:Australia/Melbourne
BEGIN:STANDARD
TZOFFSETFROM:+1100
TZOFFSETTO:+1000
TZNAME:AEST
DTSTART:20240406T160000
END:STANDARD
BEGIN:DAYLIGHT
TZOFFSETFROM:+1000
TZOFFSETTO:+1100
TZNAME:AEDT
DTSTART:20241005T160000
END:DAYLIGHT
END:VTIMEZONE
BEGIN:VEVENT
DTSTART;TZID=Australia/Melbourne:20240819T110000
DTEND;TZID=Australia/Melbourne:20240823T150000
DTSTAMP:20260420T171700
CREATED:20240809T044506Z
LAST-MODIFIED:20240809T044534Z
UID:282517-1724065200-1724425200@truganinap9.vic.edu.au
SUMMARY:Year 6 Swimming Program
DESCRIPTION:Students in Year 6G\, 6H\, 6I
URL:https://truganinap9.vic.edu.au/event/year-6-swimming-program-2/
LOCATION:Saltwater Swim School\,\, 2 Shear Street\, Truganina\, Victoria\, 3029\, Australia
CATEGORIES:Year 6
END:VEVENT
BEGIN:VEVENT
DTSTART;TZID=Australia/Melbourne:20240820T083000
DTEND;TZID=Australia/Melbourne:20240820T103000
DTSTAMP:20260420T171700
CREATED:20240809T044646Z
LAST-MODIFIED:20240809T044808Z
UID:282519-1724142600-1724149800@truganinap9.vic.edu.au
SUMMARY:Fire Rescue Victoria - Fire Ed for Foundation Incursion
DESCRIPTION:Students in Foundation
URL:https://truganinap9.vic.edu.au/event/fire-rescue-victoria-fire-ed-for-foundation-incursion/
CATEGORIES:Foundation
END:VEVENT
END:VCALENDAR