BEGIN:VCALENDAR
VERSION:2.0
PRODID:-//Truganina P-9 College - ECPv6.14.1//NONSGML v1.0//EN
CALSCALE:GREGORIAN
METHOD:PUBLISH
X-ORIGINAL-URL:https://truganinap9.vic.edu.au
X-WR-CALDESC:Events for Truganina P-9 College
REFRESH-INTERVAL;VALUE=DURATION:PT1H
X-Robots-Tag:noindex
X-PUBLISHED-TTL:PT1H
BEGIN:VTIMEZONE
TZID:Australia/Melbourne
BEGIN:STANDARD
TZOFFSETFROM:+1100
TZOFFSETTO:+1000
TZNAME:AEST
DTSTART:20240406T160000
END:STANDARD
BEGIN:DAYLIGHT
TZOFFSETFROM:+1000
TZOFFSETTO:+1100
TZNAME:AEDT
DTSTART:20241005T160000
END:DAYLIGHT
END:VTIMEZONE
BEGIN:VEVENT
DTSTART;TZID=Australia/Melbourne:20240902T080000
DTEND;TZID=Australia/Melbourne:20240904T170000
DTSTAMP:20260420T135204
CREATED:20240603T001856Z
LAST-MODIFIED:20240603T001903Z
UID:282212-1725264000-1725469200@truganinap9.vic.edu.au
SUMMARY:Year 7 Camp - Roses Gap
DESCRIPTION:Selected students in Year 7
URL:https://truganinap9.vic.edu.au/event/year-7-camp-roses-gap/
CATEGORIES:Year 7
END:VEVENT
BEGIN:VEVENT
DTSTART;TZID=Australia/Melbourne:20240904T083500
DTEND;TZID=Australia/Melbourne:20240904T150000
DTSTAMP:20260420T135204
CREATED:20240814T054850Z
LAST-MODIFIED:20240814T054850Z
UID:282532-1725438900-1725462000@truganinap9.vic.edu.au
SUMMARY:Foundation Animal Land Children's Farm Excursion
DESCRIPTION:Students in Foundation E\, F\, G\, H
URL:https://truganinap9.vic.edu.au/event/foundation-animal-land-childrens-farm-excursion-2/
LOCATION:Animal Land Diggers Rest\, 200 Duncans Lane\, Diggers Rest\, VIC\, 3427\, Australia
CATEGORIES:Foundation
END:VEVENT
BEGIN:VEVENT
DTSTART;TZID=Australia/Melbourne:20240904T090000
DTEND;TZID=Australia/Melbourne:20240904T150000
DTSTAMP:20260420T135204
CREATED:20240829T060358Z
LAST-MODIFIED:20240829T060418Z
UID:282576-1725440400-1725462000@truganinap9.vic.edu.au
SUMMARY:Year 4 IMAX Excursion
DESCRIPTION:Students in Year 4A\, B\, C\, G\, H
URL:https://truganinap9.vic.edu.au/event/year-4-imax-excursion-2/
LOCATION:IMAX Melbourne\, Rathdowne St\, Carlton\, Victoria\, 3000\, Australia
CATEGORIES:Year 4
END:VEVENT
END:VCALENDAR