BEGIN:VCALENDAR
VERSION:2.0
PRODID:-//Truganina P-9 College - ECPv6.14.1//NONSGML v1.0//EN
CALSCALE:GREGORIAN
METHOD:PUBLISH
X-WR-CALNAME:Truganina P-9 College
X-ORIGINAL-URL:https://truganinap9.vic.edu.au
X-WR-CALDESC:Events for Truganina P-9 College
REFRESH-INTERVAL;VALUE=DURATION:PT1H
X-Robots-Tag:noindex
X-PUBLISHED-TTL:PT1H
BEGIN:VTIMEZONE
TZID:Australia/Melbourne
BEGIN:STANDARD
TZOFFSETFROM:+1100
TZOFFSETTO:+1000
TZNAME:AEST
DTSTART:20240406T160000
END:STANDARD
BEGIN:DAYLIGHT
TZOFFSETFROM:+1000
TZOFFSETTO:+1100
TZNAME:AEDT
DTSTART:20241005T160000
END:DAYLIGHT
END:VTIMEZONE
BEGIN:VEVENT
DTSTART;TZID=Australia/Melbourne:20241010T090000
DTEND;TZID=Australia/Melbourne:20241010T120000
DTSTAMP:20260421T001542
CREATED:20241009T043005Z
LAST-MODIFIED:20241009T051202Z
UID:282611-1728550800-1728561600@truganinap9.vic.edu.au
SUMMARY:Foundation & Year 1 Kaboom Kid Sports Incursion
DESCRIPTION:Students in Foundation & Year 1
URL:https://truganinap9.vic.edu.au/event/foundation-kaboom-kid-sports-incursion/
LOCATION:Truganina College\, 55 Clearwood Drive\, Truganina\, VIC\, 3029\, Australia
CATEGORIES:Foundation,Year 1
END:VEVENT
BEGIN:VEVENT
DTSTART;TZID=Australia/Melbourne:20241010T090000
DTEND;TZID=Australia/Melbourne:20241010T150000
DTSTAMP:20260421T001542
CREATED:20241009T043450Z
LAST-MODIFIED:20241009T051251Z
UID:282613-1728550800-1728572400@truganinap9.vic.edu.au
SUMMARY:Year 6 Division Softball
DESCRIPTION:Selected students in Year 6
URL:https://truganinap9.vic.edu.au/event/year-6-division-softball/
LOCATION:Werribee Hockey Club\, McGrath Road\, Wyndham Vale\, VIC\, 3024\, Australia
CATEGORIES:Year 6
END:VEVENT
END:VCALENDAR