BEGIN:VCALENDAR
VERSION:2.0
PRODID:-//Truganina P-9 College - ECPv6.14.1//NONSGML v1.0//EN
CALSCALE:GREGORIAN
METHOD:PUBLISH
X-WR-CALNAME:Truganina P-9 College
X-ORIGINAL-URL:https://truganinap9.vic.edu.au
X-WR-CALDESC:Events for Truganina P-9 College
REFRESH-INTERVAL;VALUE=DURATION:PT1H
X-Robots-Tag:noindex
X-PUBLISHED-TTL:PT1H
BEGIN:VTIMEZONE
TZID:Australia/Melbourne
BEGIN:STANDARD
TZOFFSETFROM:+1100
TZOFFSETTO:+1000
TZNAME:AEST
DTSTART:20240406T160000
END:STANDARD
BEGIN:DAYLIGHT
TZOFFSETFROM:+1000
TZOFFSETTO:+1100
TZNAME:AEDT
DTSTART:20241005T160000
END:DAYLIGHT
END:VTIMEZONE
BEGIN:VEVENT
DTSTART;TZID=Australia/Melbourne:20241021T110000
DTEND;TZID=Australia/Melbourne:20241025T143000
DTSTAMP:20260421T202507
CREATED:20240815T005311Z
LAST-MODIFIED:20240815T005331Z
UID:282541-1729508400-1729866600@truganinap9.vic.edu.au
SUMMARY:Year 4 Swimming Program
DESCRIPTION:Students in Year 4A\, B\, C\, D\, E\, F
URL:https://truganinap9.vic.edu.au/event/year-4-swimming-program/
LOCATION:Saltwater Swim School\,\, 2 Shear Street\, Truganina\, Victoria\, 3029\, Australia
CATEGORIES:Year 4
END:VEVENT
BEGIN:VEVENT
DTSTART;TZID=Australia/Melbourne:20241024T083500
DTEND;TZID=Australia/Melbourne:20241024T150000
DTSTAMP:20260421T202507
CREATED:20241021T001956Z
LAST-MODIFIED:20241021T002004Z
UID:282686-1729758900-1729782000@truganinap9.vic.edu.au
SUMMARY:Year 8 Interschool Cricket
DESCRIPTION:Selected students in Year 8
URL:https://truganinap9.vic.edu.au/event/year-8-interschool-cricket/
LOCATION:Goddard Street Reserve\, Goddard Street\, Tarneit\, Vic\, 3029\, Australia
CATEGORIES:Year 8
END:VEVENT
BEGIN:VEVENT
DTSTART;TZID=Australia/Melbourne:20241024T090000
DTEND;TZID=Australia/Melbourne:20241024T150000
DTSTAMP:20260421T202507
CREATED:20241009T045630Z
LAST-MODIFIED:20241009T050226Z
UID:282629-1729760400-1729782000@truganinap9.vic.edu.au
SUMMARY:Year 9 Outdoor Education Excursion - Werrribee Gorge Circuit Walk
DESCRIPTION:Selected students in Year 9 Outdoor Education elective.
URL:https://truganinap9.vic.edu.au/event/year-9-outdoor-education-excursion-werrribee-gorge-circuit-walk/
LOCATION:Werribee Gorge State Park\, 204 Myers Road\, Pentland Hills\, VIC\, 3341\, Australia
CATEGORIES:Year 9
END:VEVENT
BEGIN:VEVENT
DTSTART;TZID=Australia/Melbourne:20241024T140000
DTEND;TZID=Australia/Melbourne:20241024T150000
DTSTAMP:20260421T202507
CREATED:20241021T002737Z
LAST-MODIFIED:20241021T002743Z
UID:282690-1729778400-1729782000@truganinap9.vic.edu.au
SUMMARY:Iron Armour Academy - Bounce Program
DESCRIPTION:Selected students in Year 7
URL:https://truganinap9.vic.edu.au/event/iron-armour-academy-bounce-program/
LOCATION:Truganina College\, 55 Clearwood Drive\, Truganina\, VIC\, 3029\, Australia
CATEGORIES:Year 7
END:VEVENT
END:VCALENDAR