BEGIN:VCALENDAR
VERSION:2.0
PRODID:-//Truganina P-9 College - ECPv6.14.1//NONSGML v1.0//EN
CALSCALE:GREGORIAN
METHOD:PUBLISH
X-ORIGINAL-URL:https://truganinap9.vic.edu.au
X-WR-CALDESC:Events for Truganina P-9 College
REFRESH-INTERVAL;VALUE=DURATION:PT1H
X-Robots-Tag:noindex
X-PUBLISHED-TTL:PT1H
BEGIN:VTIMEZONE
TZID:Australia/Melbourne
BEGIN:STANDARD
TZOFFSETFROM:+1100
TZOFFSETTO:+1000
TZNAME:AEST
DTSTART:20240406T160000
END:STANDARD
BEGIN:DAYLIGHT
TZOFFSETFROM:+1000
TZOFFSETTO:+1100
TZNAME:AEDT
DTSTART:20241005T160000
END:DAYLIGHT
END:VTIMEZONE
BEGIN:VEVENT
DTSTART;TZID=Australia/Melbourne:20241021T110000
DTEND;TZID=Australia/Melbourne:20241025T143000
DTSTAMP:20260421T222520
CREATED:20240815T005311Z
LAST-MODIFIED:20240815T005331Z
UID:282541-1729508400-1729866600@truganinap9.vic.edu.au
SUMMARY:Year 4 Swimming Program
DESCRIPTION:Students in Year 4A\, B\, C\, D\, E\, F
URL:https://truganinap9.vic.edu.au/event/year-4-swimming-program/
LOCATION:Saltwater Swim School\,\, 2 Shear Street\, Truganina\, Victoria\, 3029\, Australia
CATEGORIES:Year 4
END:VEVENT
BEGIN:VEVENT
DTSTART;TZID=Australia/Melbourne:20241025T123000
DTEND;TZID=Australia/Melbourne:20241025T150000
DTSTAMP:20260421T222520
CREATED:20241009T045843Z
LAST-MODIFIED:20241009T050500Z
UID:282632-1729859400-1729868400@truganinap9.vic.edu.au
SUMMARY:Wheel Chair Basketball Excursion
DESCRIPTION:Selected students in Year 8 Basketball elective.
URL:https://truganinap9.vic.edu.au/event/wheel-chair-basketball-excursion/
LOCATION:Eagle Stadium\, 35 Ballan Road\, Werribee\, VIC\, 3030\, Australia
CATEGORIES:Year 8
END:VEVENT
END:VCALENDAR