BEGIN:VCALENDAR
VERSION:2.0
PRODID:-//Truganina P-9 College - ECPv6.14.1//NONSGML v1.0//EN
CALSCALE:GREGORIAN
METHOD:PUBLISH
X-ORIGINAL-URL:https://truganinap9.vic.edu.au
X-WR-CALDESC:Events for Truganina P-9 College
REFRESH-INTERVAL;VALUE=DURATION:PT1H
X-Robots-Tag:noindex
X-PUBLISHED-TTL:PT1H
BEGIN:VTIMEZONE
TZID:Australia/Melbourne
BEGIN:STANDARD
TZOFFSETFROM:+1100
TZOFFSETTO:+1000
TZNAME:AEST
DTSTART:20250405T160000
END:STANDARD
BEGIN:DAYLIGHT
TZOFFSETFROM:+1000
TZOFFSETTO:+1100
TZNAME:AEDT
DTSTART:20251004T160000
END:DAYLIGHT
BEGIN:STANDARD
TZOFFSETFROM:+1100
TZOFFSETTO:+1000
TZNAME:AEST
DTSTART:20260404T160000
END:STANDARD
BEGIN:DAYLIGHT
TZOFFSETFROM:+1000
TZOFFSETTO:+1100
TZNAME:AEDT
DTSTART:20261003T160000
END:DAYLIGHT
END:VTIMEZONE
BEGIN:VEVENT
DTSTART;TZID=Australia/Melbourne:20250324T170000
DTEND;TZID=Australia/Melbourne:20250324T180000
DTSTAMP:20260420T013619
CREATED:20250212T042535Z
LAST-MODIFIED:20250212T043228Z
UID:283204-1742835600-1742839200@truganinap9.vic.edu.au
SUMMARY:2025 Annual Report to Community
DESCRIPTION:5pm to 6pm in the College Library.
URL:https://truganinap9.vic.edu.au/event/2025-annual-report-to-community/
LOCATION:Truganina College\, 55 Clearwood Drive\, Truganina\, VIC\, 3029\, Australia
CATEGORIES:Foundation,Year 1,Year 2,Year 3,Year 4,Year 5,Year 6,Year 7,Year 8,Year 9
END:VEVENT
BEGIN:VEVENT
DTSTART;TZID=Australia/Melbourne:20250404T083600
DTEND;TZID=Australia/Melbourne:20250404T143000
DTSTAMP:20260420T013619
CREATED:20250319T020221Z
LAST-MODIFIED:20250319T020228Z
UID:283327-1743755760-1743777000@truganinap9.vic.edu.au
SUMMARY:Cultural Dress Up Day
DESCRIPTION:All students
URL:https://truganinap9.vic.edu.au/event/cultural-dress-up-day/
LOCATION:Truganina College\, 55 Clearwood Drive\, Truganina\, VIC\, 3029\, Australia
CATEGORIES:Foundation,Year 1,Year 2,Year 3,Year 4,Year 5,Year 6,Year 7,Year 8,Year 9
END:VEVENT
BEGIN:VEVENT
DTSTART;TZID=Australia/Melbourne:20250611T083000
DTEND;TZID=Australia/Melbourne:20250611T150000
DTSTAMP:20260420T013619
CREATED:20250610T040606Z
LAST-MODIFIED:20250610T040615Z
UID:283438-1749630600-1749654000@truganinap9.vic.edu.au
SUMMARY:Foundation Task Works Incursion
DESCRIPTION:Students in 00B\, 00F\, 00G\, 00H
URL:https://truganinap9.vic.edu.au/event/foundation-task-works-incursion/
LOCATION:Truganina College\, 55 Clearwood Drive\, Truganina\, VIC\, 3029\, Australia
CATEGORIES:Foundation
END:VEVENT
BEGIN:VEVENT
DTSTART;TZID=Australia/Melbourne:20250612T083000
DTEND;TZID=Australia/Melbourne:20250612T150000
DTSTAMP:20260420T013619
CREATED:20250610T040703Z
LAST-MODIFIED:20250610T040710Z
UID:283441-1749717000-1749740400@truganinap9.vic.edu.au
SUMMARY:Foundation Task Works Incursion
DESCRIPTION:Students in 00A\, 00C\, 00D\, 00E
URL:https://truganinap9.vic.edu.au/event/foundation-task-works-incursion-2/
LOCATION:Truganina College\, 55 Clearwood Drive\, Truganina\, VIC\, 3029\, Australia
CATEGORIES:Foundation
END:VEVENT
BEGIN:VEVENT
DTSTART;TZID=Australia/Melbourne:20250626T140000
DTEND;TZID=Australia/Melbourne:20250626T150000
DTSTAMP:20260420T013619
CREATED:20250625T051208Z
LAST-MODIFIED:20250625T051428Z
UID:283481-1750946400-1750950000@truganinap9.vic.edu.au
SUMMARY:Excellence Assembly - Term 2
DESCRIPTION:Selected Students
URL:https://truganinap9.vic.edu.au/event/excellence-assembly-term-2/
LOCATION:Truganina College\, 55 Clearwood Drive\, Truganina\, VIC\, 3029\, Australia
CATEGORIES:Foundation,Year 1,Year 2,Year 3,Year 4,Year 5,Year 6,Year 7,Year 8,Year 9
END:VEVENT
BEGIN:VEVENT
DTSTART;TZID=Australia/Melbourne:20250701T133000
DTEND;TZID=Australia/Melbourne:20250701T140000
DTSTAMP:20260420T013619
CREATED:20250626T001703Z
LAST-MODIFIED:20250626T001703Z
UID:283515-1751376600-1751378400@truganinap9.vic.edu.au
SUMMARY:Basketball Court Grand Opening
DESCRIPTION:
URL:https://truganinap9.vic.edu.au/event/basketball-court-grand-opening/
LOCATION:Truganina College\, 55 Clearwood Drive\, Truganina\, VIC\, 3029\, Australia
CATEGORIES:Foundation,Year 1,Year 2,Year 3,Year 4,Year 5,Year 6,Year 7,Year 8,Year 9
END:VEVENT
BEGIN:VEVENT
DTSTART;TZID=Australia/Melbourne:20250701T180000
DTEND;TZID=Australia/Melbourne:20250701T200000
DTSTAMP:20260420T013619
CREATED:20250626T000703Z
LAST-MODIFIED:20250626T000703Z
UID:283512-1751392800-1751400000@truganinap9.vic.edu.au
SUMMARY:Sound Garage Concert
DESCRIPTION:Sound Garage Concert – Begins 6pm in School Gym
URL:https://truganinap9.vic.edu.au/event/sound-garage-concert/
LOCATION:Truganina College\, 55 Clearwood Drive\, Truganina\, VIC\, 3029\, Australia
CATEGORIES:Foundation,Year 1,Year 2,Year 3,Year 4,Year 5,Year 6,Year 7,Year 8,Year 9
END:VEVENT
BEGIN:VEVENT
DTSTART;TZID=Australia/Melbourne:20250703T080000
DTEND;TZID=Australia/Melbourne:20250703T170000
DTSTAMP:20260420T013619
CREATED:20250626T002311Z
LAST-MODIFIED:20250626T002343Z
UID:283522-1751529600-1751562000@truganinap9.vic.edu.au
SUMMARY:School Wide Pyjama Day
DESCRIPTION:We invite ALL students and staff (F-9) to participate in our School Wide Pyjama Day – Wear your pyjamas to school for the day!
URL:https://truganinap9.vic.edu.au/event/school-wide-pyjama-day/
LOCATION:Truganina College\, 55 Clearwood Drive\, Truganina\, VIC\, 3029\, Australia
CATEGORIES:Foundation,Year 1,Year 2,Year 3,Year 4,Year 5,Year 6,Year 7,Year 8,Year 9
END:VEVENT
BEGIN:VEVENT
DTSTART;TZID=Australia/Melbourne:20250703T080000
DTEND;TZID=Australia/Melbourne:20250703T170000
DTSTAMP:20260420T013619
CREATED:20250626T002504Z
LAST-MODIFIED:20250626T002504Z
UID:283524-1751529600-1751562000@truganinap9.vic.edu.au
SUMMARY:Semester 1 Reports Published to Families Via Compass
DESCRIPTION:An opportunitty to discuss these results with your child’s teacher will come in Term 3.
URL:https://truganinap9.vic.edu.au/event/semester-1-reports-published-to-families-via-compass/
LOCATION:VIC
CATEGORIES:Foundation,Year 1,Year 2,Year 3,Year 4,Year 5,Year 6,Year 7,Year 8,Year 9
END:VEVENT
BEGIN:VEVENT
DTSTART;TZID=Australia/Melbourne:20250707T080000
DTEND;TZID=Australia/Melbourne:20250718T170000
DTSTAMP:20260420T013619
CREATED:20250626T002542Z
LAST-MODIFIED:20250626T034302Z
UID:283526-1751875200-1752858000@truganinap9.vic.edu.au
SUMMARY:School Holidays
DESCRIPTION:
URL:https://truganinap9.vic.edu.au/event/school-holidays/
LOCATION:VIC
CATEGORIES:Foundation,Year 1,Year 2,Year 3,Year 4,Year 5,Year 6,Year 7,Year 8,Year 9
END:VEVENT
BEGIN:VEVENT
DTSTART;TZID=Australia/Melbourne:20250728T080000
DTEND;TZID=Australia/Melbourne:20250801T170000
DTSTAMP:20260420T013619
CREATED:20250626T000408Z
LAST-MODIFIED:20250626T000408Z
UID:283510-1753689600-1754067600@truganinap9.vic.edu.au
SUMMARY:Celebration of NAIDOC Week
DESCRIPTION:NAIDOC Week Celebrations
URL:https://truganinap9.vic.edu.au/event/celebration-of-naidoc-week/
LOCATION:VIC
CATEGORIES:Foundation,Year 1,Year 2,Year 3,Year 4,Year 5,Year 6,Year 7,Year 8,Year 9
END:VEVENT
BEGIN:VEVENT
DTSTART;TZID=Australia/Melbourne:20250730T100000
DTEND;TZID=Australia/Melbourne:20250730T110000
DTSTAMP:20260420T013619
CREATED:20250626T001908Z
LAST-MODIFIED:20250626T001908Z
UID:283518-1753869600-1753873200@truganinap9.vic.edu.au
SUMMARY:Official Opening of our Yarning Circle
DESCRIPTION:Opening of our college Yarning Circle
URL:https://truganinap9.vic.edu.au/event/official-opening-of-our-yarning-circle/
LOCATION:Truganina College\, 55 Clearwood Drive\, Truganina\, VIC\, 3029\, Australia
CATEGORIES:Foundation,Year 1,Year 2,Year 3,Year 4,Year 5,Year 6,Year 7,Year 8,Year 9
END:VEVENT
BEGIN:VEVENT
DTSTART;TZID=Australia/Melbourne:20250828T000000
DTEND;TZID=Australia/Melbourne:20250828T000000
DTSTAMP:20260420T013619
CREATED:20260204T024930Z
LAST-MODIFIED:20260204T024930Z
UID:284339-1756339200-1756339200@truganinap9.vic.edu.au
SUMMARY:Curriculum Day
DESCRIPTION:
URL:https://truganinap9.vic.edu.au/event/curriculum-day-11/
LOCATION:Truganina College\, 55 Clearwood Drive\, Truganina\, VIC\, 3029\, Australia
CATEGORIES:Foundation,Year 1,Year 2,Year 3,Year 4,Year 5,Year 6,Year 7,Year 8,Year 9
END:VEVENT
BEGIN:VEVENT
DTSTART;TZID=Australia/Melbourne:20250828T083500
DTEND;TZID=Australia/Melbourne:20250828T150000
DTSTAMP:20260420T013619
CREATED:20241125T044921Z
LAST-MODIFIED:20241125T044929Z
UID:282809-1756370100-1756393200@truganinap9.vic.edu.au
SUMMARY:Curriculum Day
DESCRIPTION:No students at school on this day.
URL:https://truganinap9.vic.edu.au/event/curriculum-day-3/
LOCATION:VIC
CATEGORIES:Foundation,Year 1,Year 2,Year 3,Year 4,Year 5,Year 6,Year 7,Year 8,Year 9
END:VEVENT
BEGIN:VEVENT
DTSTART;TZID=Australia/Melbourne:20250828T084500
DTEND;TZID=Australia/Melbourne:20250828T150000
DTSTAMP:20260420T013619
CREATED:20260204T035551Z
LAST-MODIFIED:20260204T070251Z
UID:284403-1756370700-1756393200@truganinap9.vic.edu.au
SUMMARY:Curriculum Day
DESCRIPTION:
URL:https://truganinap9.vic.edu.au/event/curriculum-day-18/
LOCATION:Truganina College\, 55 Clearwood Drive\, Truganina\, VIC\, 3029\, Australia
CATEGORIES:Foundation,Year 1,Year 2,Year 3,Year 4,Year 5,Year 6,Year 7,Year 8,Year 9
END:VEVENT
BEGIN:VEVENT
DTSTART;TZID=Australia/Melbourne:20250903T083000
DTEND;TZID=Australia/Melbourne:20250903T143000
DTSTAMP:20260420T013619
CREATED:20250827T044715Z
LAST-MODIFIED:20250827T044715Z
UID:283726-1756888200-1756909800@truganinap9.vic.edu.au
SUMMARY:Father's Day Stall - F to 6
DESCRIPTION:
URL:https://truganinap9.vic.edu.au/event/fathers-day-stall-f-to-6/
LOCATION:Truganina College\, 55 Clearwood Drive\, Truganina\, VIC\, 3029\, Australia
CATEGORIES:Foundation,Year 1,Year 2,Year 3,Year 4,Year 5,Year 6
END:VEVENT
BEGIN:VEVENT
DTSTART;TZID=Australia/Melbourne:20250904T083000
DTEND;TZID=Australia/Melbourne:20250904T143000
DTSTAMP:20260420T013619
CREATED:20250827T044808Z
LAST-MODIFIED:20250827T044808Z
UID:283728-1756974600-1756996200@truganinap9.vic.edu.au
SUMMARY:Father's Day Stall - F to 6
DESCRIPTION:
URL:https://truganinap9.vic.edu.au/event/fathers-day-stall-f-to-6-2/
LOCATION:Truganina College\, 55 Clearwood Drive\, Truganina\, VIC\, 3029\, Australia
CATEGORIES:Foundation,Year 1,Year 2,Year 3,Year 4,Year 5,Year 6
END:VEVENT
BEGIN:VEVENT
DTSTART;TZID=Australia/Melbourne:20251103T000000
DTEND;TZID=Australia/Melbourne:20251103T000000
DTSTAMP:20260420T013619
CREATED:20260204T024931Z
LAST-MODIFIED:20260204T024931Z
UID:284340-1762128000-1762128000@truganinap9.vic.edu.au
SUMMARY:Curriculum Day
DESCRIPTION:
URL:https://truganinap9.vic.edu.au/event/curriculum-day-12/
LOCATION:Truganina College\, 55 Clearwood Drive\, Truganina\, VIC\, 3029\, Australia
CATEGORIES:Foundation,Year 1,Year 2,Year 3,Year 4,Year 5,Year 6,Year 7,Year 8,Year 9
END:VEVENT
BEGIN:VEVENT
DTSTART;TZID=Australia/Melbourne:20251103T083500
DTEND;TZID=Australia/Melbourne:20251103T150000
DTSTAMP:20260420T013619
CREATED:20241125T045022Z
LAST-MODIFIED:20241125T045040Z
UID:282811-1762158900-1762182000@truganinap9.vic.edu.au
SUMMARY:Curriculum Day
DESCRIPTION:No students at school on this day.
URL:https://truganinap9.vic.edu.au/event/curriculum-day-4/
LOCATION:VIC
CATEGORIES:Foundation,Year 1,Year 2,Year 3,Year 4,Year 5,Year 6,Year 7,Year 8,Year 9
END:VEVENT
BEGIN:VEVENT
DTSTART;TZID=Australia/Melbourne:20251103T084500
DTEND;TZID=Australia/Melbourne:20251103T150000
DTSTAMP:20260420T013619
CREATED:20260204T035552Z
LAST-MODIFIED:20260204T070252Z
UID:284404-1762159500-1762182000@truganinap9.vic.edu.au
SUMMARY:Curriculum Day
DESCRIPTION:
URL:https://truganinap9.vic.edu.au/event/curriculum-day-19/
LOCATION:Truganina College\, 55 Clearwood Drive\, Truganina\, VIC\, 3029\, Australia
CATEGORIES:Foundation,Year 1,Year 2,Year 3,Year 4,Year 5,Year 6,Year 7,Year 8,Year 9
END:VEVENT
BEGIN:VEVENT
DTSTART;TZID=Australia/Melbourne:20260126T084500
DTEND;TZID=Australia/Melbourne:20260126T150000
DTSTAMP:20260420T013619
CREATED:20260204T033819Z
LAST-MODIFIED:20260204T070205Z
UID:284358-1769417100-1769439600@truganinap9.vic.edu.au
SUMMARY:Australia Day Public Holiday
DESCRIPTION:
URL:https://truganinap9.vic.edu.au/event/australia-day-public-holiday-2/
LOCATION:Truganina College\, 55 Clearwood Drive\, Truganina\, VIC\, 3029\, Australia
CATEGORIES:Foundation,Year 1,Year 2,Year 3,Year 4,Year 5,Year 6,Year 7,Year 8,Year 9
END:VEVENT
BEGIN:VEVENT
DTSTART;TZID=Australia/Melbourne:20260127T084500
DTEND;TZID=Australia/Melbourne:20260127T150000
DTSTAMP:20260420T013619
CREATED:20260204T033817Z
LAST-MODIFIED:20260204T070152Z
UID:284356-1769503500-1769526000@truganinap9.vic.edu.au
SUMMARY:Curriculum Day
DESCRIPTION:
URL:https://truganinap9.vic.edu.au/event/curriculum-day-13/
LOCATION:Truganina College\, 55 Clearwood Drive\, Truganina\, VIC\, 3029\, Australia
CATEGORIES:Foundation,Year 1,Year 2,Year 3,Year 4,Year 5,Year 6,Year 7,Year 8,Year 9
END:VEVENT
BEGIN:VEVENT
DTSTART;TZID=Australia/Melbourne:20260128T084500
DTEND;TZID=Australia/Melbourne:20260128T150000
DTSTAMP:20260420T013619
CREATED:20260204T033818Z
LAST-MODIFIED:20260204T070153Z
UID:284357-1769589900-1769612400@truganinap9.vic.edu.au
SUMMARY:Curriculum Day
DESCRIPTION:
URL:https://truganinap9.vic.edu.au/event/curriculum-day-14/
LOCATION:Truganina College\, 55 Clearwood Drive\, Truganina\, VIC\, 3029\, Australia
CATEGORIES:Foundation,Year 1,Year 2,Year 3,Year 4,Year 5,Year 6,Year 7,Year 8,Year 9
END:VEVENT
BEGIN:VEVENT
DTSTART;TZID=Australia/Melbourne:20260204T084500
DTEND;TZID=Australia/Melbourne:20260204T150000
DTSTAMP:20260420T013619
CREATED:20260204T033821Z
LAST-MODIFIED:20260204T070207Z
UID:284360-1770194700-1770217200@truganinap9.vic.edu.au
SUMMARY:Foundation First Day
DESCRIPTION:
URL:https://truganinap9.vic.edu.au/event/foundation-first-day-2/
LOCATION:Truganina College\, 55 Clearwood Drive\, Truganina\, VIC\, 3029\, Australia
CATEGORIES:Foundation
END:VEVENT
BEGIN:VEVENT
DTSTART;TZID=Australia/Melbourne:20260210T153000
DTEND;TZID=Australia/Melbourne:20260210T193000
DTSTAMP:20260420T013619
CREATED:20260211T000752Z
LAST-MODIFIED:20260211T000752Z
UID:284456-1770737400-1770751800@truganinap9.vic.edu.au
SUMMARY:Meet and Greet F-6
DESCRIPTION:Meet and Greet F-6 \n3:30 – 7:30pm
URL:https://truganinap9.vic.edu.au/event/meet-and-greet-f-6/
LOCATION:VIC
CATEGORIES:Foundation,Year 1,Year 2,Year 3,Year 4,Year 5,Year 6
END:VEVENT
BEGIN:VEVENT
DTSTART;TZID=Australia/Melbourne:20260218T084500
DTEND;TZID=Australia/Melbourne:20260218T150000
DTSTAMP:20260420T013619
CREATED:20260204T034021Z
LAST-MODIFIED:20260216T045618Z
UID:284373-1771404300-1771426800@truganinap9.vic.edu.au
SUMMARY:Ramadan starts
DESCRIPTION:
URL:https://truganinap9.vic.edu.au/event/ramadan-starts-2/
LOCATION:Truganina College\, 55 Clearwood Drive\, Truganina\, VIC\, 3029\, Australia
CATEGORIES:Foundation,Year 1,Year 2,Year 3,Year 4,Year 5,Year 6,Year 7,Year 8,Year 9
END:VEVENT
BEGIN:VEVENT
DTSTART;VALUE=DATE:20260225
DTEND;VALUE=DATE:20260226
DTSTAMP:20260420T013619
CREATED:20260216T033146Z
LAST-MODIFIED:20260216T045213Z
UID:284681-1771977600-1772063999@truganinap9.vic.edu.au
SUMMARY:Values Day - Learn
DESCRIPTION:
URL:https://truganinap9.vic.edu.au/event/values-day-learn/
LOCATION:VIC
CATEGORIES:Foundation,Year 1,Year 2,Year 3,Year 4,Year 5,Year 6,Year 7,Year 8,Year 9
END:VEVENT
BEGIN:VEVENT
DTSTART;TZID=Australia/Melbourne:20260309T084500
DTEND;TZID=Australia/Melbourne:20260309T150000
DTSTAMP:20260420T013619
CREATED:20260204T033826Z
LAST-MODIFIED:20260204T070208Z
UID:284361-1773045900-1773068400@truganinap9.vic.edu.au
SUMMARY:Labour Day Public Holiday
DESCRIPTION:
URL:https://truganinap9.vic.edu.au/event/labour-day-public-holiday-3/
LOCATION:Truganina College\, 55 Clearwood Drive\, Truganina\, VIC\, 3029\, Australia
CATEGORIES:Foundation,Year 1,Year 2,Year 3,Year 4,Year 5,Year 6,Year 7,Year 8,Year 9
END:VEVENT
BEGIN:VEVENT
DTSTART;TZID=Australia/Melbourne:20260319T084500
DTEND;TZID=Australia/Melbourne:20260319T150000
DTSTAMP:20260420T013619
CREATED:20260204T034022Z
LAST-MODIFIED:20260204T070305Z
UID:284374-1773909900-1773932400@truganinap9.vic.edu.au
SUMMARY:Eid al-Fitr
DESCRIPTION:
URL:https://truganinap9.vic.edu.au/event/eid-al-fitr-2/
LOCATION:Truganina College\, 55 Clearwood Drive\, Truganina\, VIC\, 3029\, Australia
CATEGORIES:Foundation,Year 1,Year 2,Year 3,Year 4,Year 5,Year 6,Year 7,Year 8,Year 9
END:VEVENT
BEGIN:VEVENT
DTSTART;TZID=Australia/Melbourne:20260402T084500
DTEND;TZID=Australia/Melbourne:20260402T150000
DTSTAMP:20260420T013619
CREATED:20260204T034519Z
LAST-MODIFIED:20260204T070139Z
UID:284390-1775119500-1775142000@truganinap9.vic.edu.au
SUMMARY:Cultural Day
DESCRIPTION:
URL:https://truganinap9.vic.edu.au/event/cultural-day-5/
LOCATION:Truganina College\, 55 Clearwood Drive\, Truganina\, VIC\, 3029\, Australia
CATEGORIES:Foundation,Year 1,Year 2,Year 3,Year 4,Year 5,Year 6,Year 7,Year 8,Year 9
END:VEVENT
END:VCALENDAR