BEGIN:VCALENDAR
VERSION:2.0
PRODID:-//Truganina P-9 College - ECPv6.14.1//NONSGML v1.0//EN
CALSCALE:GREGORIAN
METHOD:PUBLISH
X-WR-CALNAME:Truganina P-9 College
X-ORIGINAL-URL:https://truganinap9.vic.edu.au
X-WR-CALDESC:Events for Truganina P-9 College
REFRESH-INTERVAL;VALUE=DURATION:PT1H
X-Robots-Tag:noindex
X-PUBLISHED-TTL:PT1H
BEGIN:VTIMEZONE
TZID:Australia/Melbourne
BEGIN:STANDARD
TZOFFSETFROM:+1100
TZOFFSETTO:+1000
TZNAME:AEST
DTSTART:20260404T160000
END:STANDARD
BEGIN:DAYLIGHT
TZOFFSETFROM:+1000
TZOFFSETTO:+1100
TZNAME:AEDT
DTSTART:20261003T160000
END:DAYLIGHT
END:VTIMEZONE
BEGIN:VEVENT
DTSTART;TZID=Australia/Melbourne:20260515T084500
DTEND;TZID=Australia/Melbourne:20260515T150000
DTSTAMP:20260421T154643
CREATED:20260204T034318Z
LAST-MODIFIED:20260204T070325Z
UID:284382-1778834700-1778857200@truganinap9.vic.edu.au
SUMMARY:ES Day
DESCRIPTION:
URL:https://truganinap9.vic.edu.au/event/es-day-2/
LOCATION:Truganina College\, 55 Clearwood Drive\, Truganina\, VIC\, 3029\, Australia
CATEGORIES:Foundation,Year 1,Year 2,Year 3,Year 4,Year 5,Year 6,Year 7,Year 8,Year 9
END:VEVENT
BEGIN:VEVENT
DTSTART;TZID=Australia/Melbourne:20260526T084500
DTEND;TZID=Australia/Melbourne:20260526T150000
DTSTAMP:20260421T154643
CREATED:20260204T034024Z
LAST-MODIFIED:20260204T070306Z
UID:284375-1779785100-1779807600@truganinap9.vic.edu.au
SUMMARY:Eid al-Adha
DESCRIPTION:
URL:https://truganinap9.vic.edu.au/event/eid-al-adha-2/
LOCATION:Truganina College\, 55 Clearwood Drive\, Truganina\, VIC\, 3029\, Australia
CATEGORIES:Foundation,Year 1,Year 2,Year 3,Year 4,Year 5,Year 6,Year 7,Year 8,Year 9
END:VEVENT
BEGIN:VEVENT
DTSTART;TZID=Australia/Melbourne:20260527T084500
DTEND;TZID=Australia/Melbourne:20260527T150000
DTSTAMP:20260421T154643
CREATED:20260204T034116Z
LAST-MODIFIED:20260204T070310Z
UID:284376-1779871500-1779894000@truganinap9.vic.edu.au
SUMMARY:National Reconciliation Week
DESCRIPTION:
URL:https://truganinap9.vic.edu.au/event/national-reconciliation-week-2/
LOCATION:Truganina College\, 55 Clearwood Drive\, Truganina\, VIC\, 3029\, Australia
CATEGORIES:Foundation,Year 1,Year 2,Year 3,Year 4,Year 5,Year 6,Year 7,Year 8,Year 9
END:VEVENT
BEGIN:VEVENT
DTSTART;TZID=Australia/Melbourne:20260529T084500
DTEND;TZID=Australia/Melbourne:20260529T150000
DTSTAMP:20260421T154643
CREATED:20260204T034007Z
LAST-MODIFIED:20260204T070038Z
UID:284369-1780044300-1780066800@truganinap9.vic.edu.au
SUMMARY:Curriculum Day
DESCRIPTION:
URL:https://truganinap9.vic.edu.au/event/curriculum-day-15/
LOCATION:Truganina College\, 55 Clearwood Drive\, Truganina\, VIC\, 3029\, Australia
CATEGORIES:Foundation,Year 1,Year 2,Year 3,Year 4,Year 5,Year 6,Year 7,Year 8,Year 9
END:VEVENT
END:VCALENDAR