BEGIN:VCALENDAR
VERSION:2.0
PRODID:-//Truganina P-9 College - ECPv6.14.1//NONSGML v1.0//EN
CALSCALE:GREGORIAN
METHOD:PUBLISH
X-WR-CALNAME:Truganina P-9 College
X-ORIGINAL-URL:https://truganinap9.vic.edu.au
X-WR-CALDESC:Events for Truganina P-9 College
REFRESH-INTERVAL;VALUE=DURATION:PT1H
X-Robots-Tag:noindex
X-PUBLISHED-TTL:PT1H
BEGIN:VTIMEZONE
TZID:Australia/Melbourne
BEGIN:STANDARD
TZOFFSETFROM:+1100
TZOFFSETTO:+1000
TZNAME:AEST
DTSTART:20230401T160000
END:STANDARD
BEGIN:DAYLIGHT
TZOFFSETFROM:+1000
TZOFFSETTO:+1100
TZNAME:AEDT
DTSTART:20230930T160000
END:DAYLIGHT
BEGIN:STANDARD
TZOFFSETFROM:+1100
TZOFFSETTO:+1000
TZNAME:AEST
DTSTART:20240406T160000
END:STANDARD
BEGIN:DAYLIGHT
TZOFFSETFROM:+1000
TZOFFSETTO:+1100
TZNAME:AEDT
DTSTART:20241005T160000
END:DAYLIGHT
END:VTIMEZONE
BEGIN:VEVENT
DTSTART;VALUE=DATE:20240325
DTEND;VALUE=DATE:20240326
DTSTAMP:20260420T155958
CREATED:20240213T040626Z
LAST-MODIFIED:20240213T040748Z
UID:281838-1711324800-1711411199@truganinap9.vic.edu.au
SUMMARY:Year 7 Immunisation
DESCRIPTION:Students in Year 7
URL:https://truganinap9.vic.edu.au/event/year-7-immunisation/
CATEGORIES:Year 7
END:VEVENT
BEGIN:VEVENT
DTSTART;VALUE=DATE:20240321
DTEND;VALUE=DATE:20240322
DTSTAMP:20260420T155958
CREATED:20240213T040523Z
LAST-MODIFIED:20240213T040528Z
UID:281835-1710979200-1711065599@truganinap9.vic.edu.au
SUMMARY:Harmony Day
DESCRIPTION:
URL:https://truganinap9.vic.edu.au/event/harmony-day/
END:VEVENT
BEGIN:VEVENT
DTSTART;TZID=Australia/Melbourne:20240315T090000
DTEND;TZID=Australia/Melbourne:20240315T130000
DTSTAMP:20260420T155958
CREATED:20240226T050901Z
LAST-MODIFIED:20240226T050906Z
UID:281985-1710493200-1710507600@truganinap9.vic.edu.au
SUMMARY:NAPLAN - Conventions of Language
DESCRIPTION:Students in Years 3\, 5\, 7 & 9
URL:https://truganinap9.vic.edu.au/event/naplan-conventions-of-language/
CATEGORIES:Year 3,Year 5,Year 7,Year 9
END:VEVENT
BEGIN:VEVENT
DTSTART;TZID=Australia/Melbourne:20240314T090000
DTEND;TZID=Australia/Melbourne:20240314T130000
DTSTAMP:20260420T155958
CREATED:20240226T050813Z
LAST-MODIFIED:20240226T050818Z
UID:281983-1710406800-1710421200@truganinap9.vic.edu.au
SUMMARY:NAPLAN - Reading
DESCRIPTION:Students in Years 3\, 5\, 7 & 9
URL:https://truganinap9.vic.edu.au/event/naplan-reading/
CATEGORIES:Year 3,Year 5,Year 7,Year 9
END:VEVENT
BEGIN:VEVENT
DTSTART;VALUE=DATE:20240314
DTEND;VALUE=DATE:20240315
DTSTAMP:20260420T155958
CREATED:20240226T050407Z
LAST-MODIFIED:20240226T050416Z
UID:281979-1710374400-1710460799@truganinap9.vic.edu.au
SUMMARY:Wyndham Tech School
DESCRIPTION:Students in Year 8G\, 8H\, 8I
URL:https://truganinap9.vic.edu.au/event/wyndham-tech-school-3/
CATEGORIES:Year 8
END:VEVENT
BEGIN:VEVENT
DTSTART;TZID=Australia/Melbourne:20240313T090000
DTEND;TZID=Australia/Melbourne:20240313T130000
DTSTAMP:20260420T155958
CREATED:20240226T050720Z
LAST-MODIFIED:20240226T050725Z
UID:281981-1710320400-1710334800@truganinap9.vic.edu.au
SUMMARY:NAPLAN - writing
DESCRIPTION:Students in Years 3\, 5\, 7 & 9
URL:https://truganinap9.vic.edu.au/event/naplan-writing/
CATEGORIES:Year 3,Year 5,Year 7,Year 9
END:VEVENT
BEGIN:VEVENT
DTSTART;VALUE=DATE:20240311
DTEND;VALUE=DATE:20240312
DTSTAMP:20260420T155958
CREATED:20240213T040449Z
LAST-MODIFIED:20240213T040457Z
UID:281832-1710115200-1710201599@truganinap9.vic.edu.au
SUMMARY:Public Holiday
DESCRIPTION:No students on this day
URL:https://truganinap9.vic.edu.au/event/public-holiday/
END:VEVENT
BEGIN:VEVENT
DTSTART;VALUE=DATE:20240308
DTEND;VALUE=DATE:20240309
DTSTAMP:20260420T155958
CREATED:20240226T050309Z
LAST-MODIFIED:20240226T050323Z
UID:281977-1709856000-1709942399@truganinap9.vic.edu.au
SUMMARY:Year 6 Sovereign Hill Excursion
DESCRIPTION:Students in Year 6\, Group 2
URL:https://truganinap9.vic.edu.au/event/year-6-sovereign-hill-excursion-2/
CATEGORIES:Year 6
END:VEVENT
BEGIN:VEVENT
DTSTART;VALUE=DATE:20240308
DTEND;VALUE=DATE:20240309
DTSTAMP:20260420T155958
CREATED:20240226T050215Z
LAST-MODIFIED:20240226T050220Z
UID:281975-1709856000-1709942399@truganinap9.vic.edu.au
SUMMARY:Wyndham Tech School
DESCRIPTION:Students in Year 8D\, 8E\, 8F
URL:https://truganinap9.vic.edu.au/event/wyndham-tech-school-2/
CATEGORIES:Year 8
END:VEVENT
BEGIN:VEVENT
DTSTART;VALUE=DATE:20240307
DTEND;VALUE=DATE:20240308
DTSTAMP:20260420T155958
CREATED:20240226T050105Z
LAST-MODIFIED:20240226T050109Z
UID:281973-1709769600-1709855999@truganinap9.vic.edu.au
SUMMARY:Year 6 Sovereign Hill Excursion
DESCRIPTION:Students in Year 6\, Group 1
URL:https://truganinap9.vic.edu.au/event/year-6-sovereign-hill-excursion/
CATEGORIES:Year 6
END:VEVENT
BEGIN:VEVENT
DTSTART;VALUE=DATE:20240307
DTEND;VALUE=DATE:20240308
DTSTAMP:20260420T155958
CREATED:20240220T032653Z
LAST-MODIFIED:20240220T032658Z
UID:281941-1709769600-1709855999@truganinap9.vic.edu.au
SUMMARY:Year 8 Interschool Volleyball
DESCRIPTION:Selected Students in Year 8
URL:https://truganinap9.vic.edu.au/event/year-8-interschool-volleyball/
CATEGORIES:Year 8
END:VEVENT
BEGIN:VEVENT
DTSTART;VALUE=DATE:20240306
DTEND;VALUE=DATE:20240307
DTSTAMP:20260420T155958
CREATED:20240226T045850Z
LAST-MODIFIED:20240226T045856Z
UID:281970-1709683200-1709769599@truganinap9.vic.edu.au
SUMMARY:Wyndham Secondary Tennis
DESCRIPTION:Selected students in Year 7
URL:https://truganinap9.vic.edu.au/event/wyndham-secondary-tennis/
LOCATION:Saltwater Reserve\, Point Cook\, Saltwater Reserve\, Point Cook\, VIC\, Australia
CATEGORIES:Year 7
END:VEVENT
BEGIN:VEVENT
DTSTART;VALUE=DATE:20240229
DTEND;VALUE=DATE:20240301
DTSTAMP:20260420T155958
CREATED:20240226T045305Z
LAST-MODIFIED:20240226T045310Z
UID:281968-1709164800-1709251199@truganinap9.vic.edu.au
SUMMARY:Wyndham Tech School
DESCRIPTION:Students in Year 8A\, 8B\, 8C
URL:https://truganinap9.vic.edu.au/event/wyndham-tech-school/
CATEGORIES:Year 8
END:VEVENT
BEGIN:VEVENT
DTSTART;VALUE=DATE:20240229
DTEND;VALUE=DATE:20240301
DTSTAMP:20260420T155958
CREATED:20240220T032430Z
LAST-MODIFIED:20240220T032434Z
UID:281939-1709164800-1709251199@truganinap9.vic.edu.au
SUMMARY:Year 9 Interschool Volleyball
DESCRIPTION:Selected Students in Year 9
URL:https://truganinap9.vic.edu.au/event/year-9-interschool-volleyball/
LOCATION:Eagle Stadium\, 35 Ballan Road\, Werribee\, VIC\, 3030\, Australia
CATEGORIES:Year 9
END:VEVENT
BEGIN:VEVENT
DTSTART;VALUE=DATE:20240228
DTEND;VALUE=DATE:20240229
DTSTAMP:20260420T155958
CREATED:20240220T032205Z
LAST-MODIFIED:20240220T032210Z
UID:281937-1709078400-1709164799@truganinap9.vic.edu.au
SUMMARY:Year 7 Interschool Volleyball
DESCRIPTION:Selected Students In Year 7
URL:https://truganinap9.vic.edu.au/event/year-7-interschool-volleyball-2/
LOCATION:Eagle Stadium\, 35 Ballan Road\, Werribee\, VIC\, 3030\, Australia
CATEGORIES:Year 7
END:VEVENT
BEGIN:VEVENT
DTSTART;VALUE=DATE:20240227
DTEND;VALUE=DATE:20240228
DTSTAMP:20260420T155958
CREATED:20240220T032004Z
LAST-MODIFIED:20240220T032012Z
UID:281935-1708992000-1709078399@truganinap9.vic.edu.au
SUMMARY:Summer Gala Day
DESCRIPTION:Selected Students in Year 5 & 6
URL:https://truganinap9.vic.edu.au/event/summer-gala-day/
CATEGORIES:Year 5,Year 6
END:VEVENT
BEGIN:VEVENT
DTSTART;VALUE=DATE:20240222
DTEND;VALUE=DATE:20240223
DTSTAMP:20260420T155958
CREATED:20240220T031712Z
LAST-MODIFIED:20240220T031717Z
UID:281931-1708560000-1708646399@truganinap9.vic.edu.au
SUMMARY:Division Swimming
DESCRIPTION:Selected students in Year 7 & 8
URL:https://truganinap9.vic.edu.au/event/division-swimming/
LOCATION:Werribee Outdoor Pool\, Chirnside Park\, 220 Watton St\, Werribee\, Victoria\, 3030\, Australia
CATEGORIES:Year 7,Year 8
END:VEVENT
BEGIN:VEVENT
DTSTART;TZID=Australia/Melbourne:20240221T153000
DTEND;TZID=Australia/Melbourne:20240221T163000
DTSTAMP:20260420T155958
CREATED:20240213T212413Z
LAST-MODIFIED:20240213T212418Z
UID:281857-1708529400-1708533000@truganinap9.vic.edu.au
SUMMARY:Assessment Information Night 2024
DESCRIPTION:Dear Families\, \nOn Wednesday 21st February\, Truganina College will be holding our Assessment Information Night for families in Years 3\, 5\, 7 and 9. \nAssessment Information Night provides an exciting opportunity to learn how assessment works at Truganina College\, and how to best support your child’s learning at home. During the session\, you will be provided with important information about assessments at our College\, as well as some useful resources that can be used to support your children during the upcoming NAPLAN period. \nThe session will start at 3:30pm and run for about 45 minutes. \nWe encourage all parents to attend. If you are interested in attending our upcoming Assessment Information Night\, please click on the link below to register.\nhttps://forms.gle/6ZVTnF8RsYceiE8G8
URL:https://truganinap9.vic.edu.au/event/assessment-information-night-2024/
CATEGORIES:Year 3,Year 5,Year 7,Year 9
END:VEVENT
BEGIN:VEVENT
DTSTART;VALUE=DATE:20240221
DTEND;VALUE=DATE:20240222
DTSTAMP:20260420T155958
CREATED:20240220T031522Z
LAST-MODIFIED:20240220T031528Z
UID:281928-1708473600-1708559999@truganinap9.vic.edu.au
SUMMARY:District Swimming
DESCRIPTION:Selected Students in Years 4\, 5 & 6
URL:https://truganinap9.vic.edu.au/event/district-swimming/
LOCATION:Werribee Outdoor Pool\, Chirnside Park\, 220 Watton St\, Werribee\, Victoria\, 3030\, Australia
CATEGORIES:Year 4,Year 5,Year 6
END:VEVENT
BEGIN:VEVENT
DTSTART;VALUE=DATE:20240215
DTEND;VALUE=DATE:20240216
DTSTAMP:20260420T155958
CREATED:20240213T041129Z
LAST-MODIFIED:20240213T041137Z
UID:281843-1707955200-1708041599@truganinap9.vic.edu.au
SUMMARY:Year 9 Interschool Cricket
DESCRIPTION:Selected students in Year 9
URL:https://truganinap9.vic.edu.au/event/year-9-interschool-cricket/
LOCATION:Go\, Goddard Street Reserve\, Tarneit\, Victoria\, 3030\, Australia
CATEGORIES:Year 9
END:VEVENT
BEGIN:VEVENT
DTSTART;VALUE=DATE:20240205
DTEND;VALUE=DATE:20240206
DTSTAMP:20260420T155958
CREATED:20231218T192604Z
LAST-MODIFIED:20231218T192604Z
UID:281589-1707091200-1707177599@truganinap9.vic.edu.au
SUMMARY:1st Day of Term 1 Foundation Students
DESCRIPTION:School starts at 8.35am
URL:https://truganinap9.vic.edu.au/event/1st-day-of-term-1-foundation-students/
CATEGORIES:Foundation
END:VEVENT
BEGIN:VEVENT
DTSTART;VALUE=DATE:20240130
DTEND;VALUE=DATE:20240131
DTSTAMP:20260420T155958
CREATED:20231218T192417Z
LAST-MODIFIED:20231218T192417Z
UID:281587-1706572800-1706659199@truganinap9.vic.edu.au
SUMMARY:1st Day Term 1 2024 Years 1-9
DESCRIPTION:School starts at 8.35am
URL:https://truganinap9.vic.edu.au/event/1st-day-term-1-2024-years-1-9/
END:VEVENT
BEGIN:VEVENT
DTSTART;VALUE=DATE:20240129
DTEND;VALUE=DATE:20240130
DTSTAMP:20260420T155958
CREATED:20231218T192235Z
LAST-MODIFIED:20231218T192235Z
UID:281585-1706486400-1706572799@truganinap9.vic.edu.au
SUMMARY:Curriculum Day Monday 29th January
DESCRIPTION:No students at school this day
URL:https://truganinap9.vic.edu.au/event/curriculum-day-monday-29th-january/
END:VEVENT
BEGIN:VEVENT
DTSTART;VALUE=DATE:20231220
DTEND;VALUE=DATE:20231221
DTSTAMP:20260420T155958
CREATED:20231101T003548Z
LAST-MODIFIED:20231101T003548Z
UID:281124-1703030400-1703116799@truganinap9.vic.edu.au
SUMMARY:Last Day of Term 4 – School finishes at 1.30pm
DESCRIPTION:
URL:https://truganinap9.vic.edu.au/event/last-day-of-term-4-school-finishes-at-1-30pm/
END:VEVENT
BEGIN:VEVENT
DTSTART;VALUE=DATE:20231212
DTEND;VALUE=DATE:20231213
DTSTAMP:20260420T155958
CREATED:20231101T003534Z
LAST-MODIFIED:20231101T003534Z
UID:281123-1702339200-1702425599@truganinap9.vic.edu.au
SUMMARY:Statewide Transition Day
DESCRIPTION:
URL:https://truganinap9.vic.edu.au/event/statewide-transition-day/
END:VEVENT
BEGIN:VEVENT
DTSTART;VALUE=DATE:20231207
DTEND;VALUE=DATE:20231208
DTSTAMP:20260420T155958
CREATED:20231109T005501Z
LAST-MODIFIED:20231109T005501Z
UID:281225-1701907200-1701993599@truganinap9.vic.edu.au
SUMMARY:Wyndham Tech Excursion: Al Engineering – Selected students in Year 8
DESCRIPTION:
URL:https://truganinap9.vic.edu.au/event/wyndham-tech-excursion-al-engineering-selected-students-in-year-8-2/
CATEGORIES:Year 8
END:VEVENT
BEGIN:VEVENT
DTSTART;VALUE=DATE:20231207
DTEND;VALUE=DATE:20231208
DTSTAMP:20260420T155958
CREATED:20231109T005436Z
LAST-MODIFIED:20231109T005436Z
UID:281224-1701907200-1701993599@truganinap9.vic.edu.au
SUMMARY:Kaboom Kids Incursion – Students in Foundation
DESCRIPTION:
URL:https://truganinap9.vic.edu.au/event/kaboom-kids-incursion-students-in-foundation/
CATEGORIES:Foundation
END:VEVENT
BEGIN:VEVENT
DTSTART;VALUE=DATE:20231206
DTEND;VALUE=DATE:20231207
DTSTAMP:20260420T155958
CREATED:20231109T005412Z
LAST-MODIFIED:20231109T005412Z
UID:281223-1701820800-1701907199@truganinap9.vic.edu.au
SUMMARY:Year 5 to Year 9 Parent Teacher Interviews
DESCRIPTION:
URL:https://truganinap9.vic.edu.au/event/year-5-to-year-9-parent-teacher-interviews/
CATEGORIES:Year 5,Year 6,Year 7,Year 8,Year 9
END:VEVENT
BEGIN:VEVENT
DTSTART;VALUE=DATE:20231205
DTEND;VALUE=DATE:20231206
DTSTAMP:20260420T155958
CREATED:20231109T005348Z
LAST-MODIFIED:20231109T005348Z
UID:281219-1701734400-1701820799@truganinap9.vic.edu.au
SUMMARY:Wyndham Tech Excursion: Game Development – Selected students in Year 8
DESCRIPTION:
URL:https://truganinap9.vic.edu.au/event/wyndham-tech-excursion-game-development-selected-students-in-year-8/
CATEGORIES:Year 8
END:VEVENT
BEGIN:VEVENT
DTSTART;VALUE=DATE:20231205
DTEND;VALUE=DATE:20231206
DTSTAMP:20260420T155958
CREATED:20231109T005322Z
LAST-MODIFIED:20231109T005322Z
UID:281218-1701734400-1701820799@truganinap9.vic.edu.au
SUMMARY:Foundation to Year 4 Parent Teacher Interviews
DESCRIPTION:
URL:https://truganinap9.vic.edu.au/event/foundation-to-year-4-parent-teacher-interviews/
CATEGORIES:Foundation,Year 1,Year 2,Year 3,Year 4
END:VEVENT
END:VCALENDAR