BEGIN:VCALENDAR
VERSION:2.0
PRODID:-//Truganina P-9 College - ECPv6.14.1//NONSGML v1.0//EN
CALSCALE:GREGORIAN
METHOD:PUBLISH
X-WR-CALNAME:Truganina P-9 College
X-ORIGINAL-URL:https://truganinap9.vic.edu.au
X-WR-CALDESC:Events for Truganina P-9 College
REFRESH-INTERVAL;VALUE=DURATION:PT1H
X-Robots-Tag:noindex
X-PUBLISHED-TTL:PT1H
BEGIN:VTIMEZONE
TZID:Australia/Melbourne
BEGIN:STANDARD
TZOFFSETFROM:+1100
TZOFFSETTO:+1000
TZNAME:AEST
DTSTART:20240406T160000
END:STANDARD
BEGIN:DAYLIGHT
TZOFFSETFROM:+1000
TZOFFSETTO:+1100
TZNAME:AEDT
DTSTART:20241005T160000
END:DAYLIGHT
END:VTIMEZONE
BEGIN:VEVENT
DTSTART;TZID=Australia/Melbourne:20240729T083500
DTEND;TZID=Australia/Melbourne:20240729T151500
DTSTAMP:20260420T123241
CREATED:20240620T055753Z
LAST-MODIFIED:20240620T055759Z
UID:282366-1722242100-1722266100@truganinap9.vic.edu.au
SUMMARY:Year 2 MoPA Excursion
DESCRIPTION:Students in Year 2C\, 2D\, 2J
URL:https://truganinap9.vic.edu.au/event/year-2-mopa-excursion/
LOCATION:MoPA Museum of Play and Art\, 51 McKillop St\, Geelong\, VIC\, 3220\, Australia
CATEGORIES:Year 2
END:VEVENT
BEGIN:VEVENT
DTSTART;TZID=Australia/Melbourne:20240724T110000
DTEND;TZID=Australia/Melbourne:20240724T150000
DTSTAMP:20260420T123241
CREATED:20240716T005003Z
LAST-MODIFIED:20240716T005319Z
UID:282398-1721818800-1721833200@truganinap9.vic.edu.au
SUMMARY:Suzanne Cory High School Music Excursion
DESCRIPTION:Selected students in Year 8
URL:https://truganinap9.vic.edu.au/event/suzanne-corry-high-school-music-excursion/
LOCATION:Suzanne Cory High School\, 225 Hoppers Lane\, Werribee\, Victoria\, 3030\, Australia
CATEGORIES:Year 8
END:VEVENT
BEGIN:VEVENT
DTSTART;TZID=Australia/Melbourne:20240724T083000
DTEND;TZID=Australia/Melbourne:20240724T150000
DTSTAMP:20260420T123241
CREATED:20240620T055218Z
LAST-MODIFIED:20240620T055225Z
UID:282364-1721809800-1721833200@truganinap9.vic.edu.au
SUMMARY:Year 6 & 7 Athletics Carnival
DESCRIPTION:Students in Year 6 & 7
URL:https://truganinap9.vic.edu.au/event/year-6-7-athletics-carnival/
LOCATION:VU Athletics Track Werribee\, 235 Hoppers Lane\, Werribee\, VIC\, 3030\, Australia
CATEGORIES:Year 6,Year 7
END:VEVENT
BEGIN:VEVENT
DTSTART;TZID=Australia/Melbourne:20240723T090000
DTEND;TZID=Australia/Melbourne:20240723T150000
DTSTAMP:20260420T123241
CREATED:20240620T054904Z
LAST-MODIFIED:20240620T055053Z
UID:282361-1721725200-1721746800@truganinap9.vic.edu.au
SUMMARY:Year 3 IMAX Excursion
DESCRIPTION:Students in Year 3
URL:https://truganinap9.vic.edu.au/event/year-3-imax-excursion/
LOCATION:IMAX Melbourne\, Rathdowne St\, Carlton\, Victoria\, 3000\, Australia
CATEGORIES:Year 3
END:VEVENT
BEGIN:VEVENT
DTSTART;TZID=Australia/Melbourne:20240718T103000
DTEND;TZID=Australia/Melbourne:20240718T120000
DTSTAMP:20260420T123241
CREATED:20240620T052412Z
LAST-MODIFIED:20240620T052416Z
UID:282358-1721298600-1721304000@truganinap9.vic.edu.au
SUMMARY:Susan McLean - Year 6 Cyber Safety Incursion
DESCRIPTION:Students in Year 6
URL:https://truganinap9.vic.edu.au/event/susan-mclean-year-6-cyber-safety-incursion/
CATEGORIES:Year 6
END:VEVENT
BEGIN:VEVENT
DTSTART;TZID=Australia/Melbourne:20240717T153000
DTEND;TZID=Australia/Melbourne:20240717T193000
DTSTAMP:20260420T123241
CREATED:20240527T060936Z
LAST-MODIFIED:20240620T050509Z
UID:282200-1721230200-1721244600@truganinap9.vic.edu.au
SUMMARY:Parent Teacher Interviews - Year 4 to Year 9
DESCRIPTION:Families of Year 4 to Year 9
URL:https://truganinap9.vic.edu.au/event/parent-teacher-interviews-year-4-to-year-9/
CATEGORIES:Year 4,Year 5,Year 6,Year 7,Year 8,Year 9
END:VEVENT
BEGIN:VEVENT
DTSTART;TZID=Australia/Melbourne:20240716T153000
DTEND;TZID=Australia/Melbourne:20240716T193000
DTSTAMP:20260420T123241
CREATED:20240527T060840Z
LAST-MODIFIED:20240527T060844Z
UID:282198-1721143800-1721158200@truganinap9.vic.edu.au
SUMMARY:Parent Teacher Interviews - Foundation to Year 3
DESCRIPTION:Families of Foundation to Year 3
URL:https://truganinap9.vic.edu.au/event/parent-teacher-interviews-foundation-to-year-3/
CATEGORIES:Foundation,Year 1,Year 2,Year 3
END:VEVENT
BEGIN:VEVENT
DTSTART;TZID=Australia/Melbourne:20240716T080000
DTEND;TZID=Australia/Melbourne:20240716T151500
DTSTAMP:20260420T123241
CREATED:20240620T051412Z
LAST-MODIFIED:20240620T051510Z
UID:282355-1721116800-1721142900@truganinap9.vic.edu.au
SUMMARY:Year 4 & 5 Athletics Carnival
DESCRIPTION:Students in Years 4 & 5
URL:https://truganinap9.vic.edu.au/event/year-4-5-athletics-carnival/
LOCATION:VU Athletics Track Werribee\, 235 Hoppers Lane\, Werribee\, VIC\, 3030\, Australia
CATEGORIES:Year 4,Year 5
END:VEVENT
BEGIN:VEVENT
DTSTART;TZID=Australia/Melbourne:20240715T083500
DTEND;TZID=Australia/Melbourne:20240715T150000
DTSTAMP:20260420T123241
CREATED:20240527T060420Z
LAST-MODIFIED:20240620T050344Z
UID:282196-1721032500-1721055600@truganinap9.vic.edu.au
SUMMARY:First Day of Term 3
DESCRIPTION:Students begin at 8.35am 
URL:https://truganinap9.vic.edu.au/event/first-day-of-term-3/
END:VEVENT
BEGIN:VEVENT
DTSTART;VALUE=DATE:20240707
DTEND;VALUE=DATE:20240715
DTSTAMP:20260420T123241
CREATED:20240527T055920Z
LAST-MODIFIED:20240527T055925Z
UID:282182-1720310400-1721001599@truganinap9.vic.edu.au
SUMMARY:NAIDOC Week
DESCRIPTION:
URL:https://truganinap9.vic.edu.au/event/naidoc-week/
END:VEVENT
BEGIN:VEVENT
DTSTART;TZID=Australia/Melbourne:20240628T083500
DTEND;TZID=Australia/Melbourne:20240628T143000
DTSTAMP:20260420T123241
CREATED:20240527T060340Z
LAST-MODIFIED:20240620T044948Z
UID:282194-1719563700-1719585000@truganinap9.vic.edu.au
SUMMARY:Last Day of Term 2
DESCRIPTION:Students finish at 2.30pm
URL:https://truganinap9.vic.edu.au/event/last-day-of-term-2/
END:VEVENT
BEGIN:VEVENT
DTSTART;TZID=Australia/Melbourne:20240621T084500
DTEND;TZID=Australia/Melbourne:20240621T113000
DTSTAMP:20260420T123241
CREATED:20240620T035732Z
LAST-MODIFIED:20240620T035737Z
UID:282352-1718959500-1718969400@truganinap9.vic.edu.au
SUMMARY:Victoria University - Try A Trade Day
DESCRIPTION:Selected students in Year 9
URL:https://truganinap9.vic.edu.au/event/victoria-university-try-a-trade-day/
LOCATION:Victoria University Sunshine Campus\, 438/460 Ballarat Road\, Sunshine\, Victoria\, 3020\, Australia
CATEGORIES:Year 9
END:VEVENT
BEGIN:VEVENT
DTSTART;TZID=Australia/Melbourne:20240620T170000
DTEND;TZID=Australia/Melbourne:20240620T180000
DTSTAMP:20260420T123241
CREATED:20240620T031543Z
LAST-MODIFIED:20240620T035340Z
UID:282350-1718902800-1718906400@truganinap9.vic.edu.au
SUMMARY:Spain Trip 2025 Expression of Interest Information Session
DESCRIPTION:Year 7 & 8 students/parents with expression of interest in the Spain Trip 2025
URL:https://truganinap9.vic.edu.au/event/spain-trip-2025-expression-of-interest-information-session/
CATEGORIES:Year 7,Year 8
END:VEVENT
BEGIN:VEVENT
DTSTART;TZID=Australia/Melbourne:20240617T083000
DTEND;TZID=Australia/Melbourne:20240617T103000
DTSTAMP:20260420T123241
CREATED:20240603T001607Z
LAST-MODIFIED:20240603T001611Z
UID:282210-1718613000-1718620200@truganinap9.vic.edu.au
SUMMARY:Foundation Fire Rescue Victoria Incursion
DESCRIPTION:Students in Foundation
URL:https://truganinap9.vic.edu.au/event/foundation-fire-rescue-victoria-incursion/
CATEGORIES:Foundation
END:VEVENT
BEGIN:VEVENT
DTSTART;VALUE=DATE:20240617
DTEND;VALUE=DATE:20240618
DTSTAMP:20260420T123241
CREATED:20240527T055844Z
LAST-MODIFIED:20240527T055849Z
UID:282180-1718582400-1718668799@truganinap9.vic.edu.au
SUMMARY:Susan McLean Incursion
DESCRIPTION:Students in Year 6
URL:https://truganinap9.vic.edu.au/event/susan-mclean-incursion/
CATEGORIES:Year 6
END:VEVENT
BEGIN:VEVENT
DTSTART;VALUE=DATE:20240614
DTEND;VALUE=DATE:20240615
DTSTAMP:20260420T123241
CREATED:20240603T001445Z
LAST-MODIFIED:20240603T001454Z
UID:282208-1718323200-1718409599@truganinap9.vic.edu.au
SUMMARY:Year 6 Winter Gala Day
DESCRIPTION:Selected students in Year 6
URL:https://truganinap9.vic.edu.au/event/year-6-winter-gala-day/
CATEGORIES:Year 6
END:VEVENT
BEGIN:VEVENT
DTSTART;VALUE=DATE:20240614
DTEND;VALUE=DATE:20240615
DTSTAMP:20260420T123241
CREATED:20240527T055748Z
LAST-MODIFIED:20240527T055754Z
UID:282178-1718323200-1718409599@truganinap9.vic.edu.au
SUMMARY:Year 8 Sport & Rec F45 Incursion
DESCRIPTION:Selected students in Year 8
URL:https://truganinap9.vic.edu.au/event/year-8-sport-rec-f45-incursion-2/
CATEGORIES:Year 8
END:VEVENT
BEGIN:VEVENT
DTSTART;VALUE=DATE:20240612
DTEND;VALUE=DATE:20240613
DTSTAMP:20260420T123241
CREATED:20240527T055710Z
LAST-MODIFIED:20240527T055719Z
UID:282176-1718150400-1718236799@truganinap9.vic.edu.au
SUMMARY:Year 8 Sport & Rec F45 Incursion
DESCRIPTION:Selected students in Year 8
URL:https://truganinap9.vic.edu.au/event/year-8-sport-rec-f45-incursion/
CATEGORIES:Year 8
END:VEVENT
BEGIN:VEVENT
DTSTART;VALUE=DATE:20240610
DTEND;VALUE=DATE:20240611
DTSTAMP:20260420T123241
CREATED:20240527T055603Z
LAST-MODIFIED:20240527T055607Z
UID:282174-1717977600-1718063999@truganinap9.vic.edu.au
SUMMARY:Public Holiday
DESCRIPTION:No school on this day
URL:https://truganinap9.vic.edu.au/event/public-holiday-2/
END:VEVENT
BEGIN:VEVENT
DTSTART;TZID=Australia/Melbourne:20240606T090000
DTEND;TZID=Australia/Melbourne:20240606T100000
DTSTAMP:20260420T123241
CREATED:20240603T001254Z
LAST-MODIFIED:20240603T001336Z
UID:282205-1717664400-1717668000@truganinap9.vic.edu.au
SUMMARY:Year 4 Author Incursion - George Ivanoff
DESCRIPTION:Students in Year 4
URL:https://truganinap9.vic.edu.au/event/year-4-author-incursion-george-ivanoff/
CATEGORIES:Year 4
END:VEVENT
BEGIN:VEVENT
DTSTART;VALUE=DATE:20240606
DTEND;VALUE=DATE:20240607
DTSTAMP:20260420T123241
CREATED:20240603T001201Z
LAST-MODIFIED:20240603T001206Z
UID:282203-1717632000-1717718399@truganinap9.vic.edu.au
SUMMARY:Year 8 Boys Inter-School Soccer
DESCRIPTION:Selected students in Year 8
URL:https://truganinap9.vic.edu.au/event/year-8-boys-inter-school-soccer/
CATEGORIES:Year 8
END:VEVENT
BEGIN:VEVENT
DTSTART;VALUE=DATE:20240605
DTEND;VALUE=DATE:20240606
DTSTAMP:20260420T123241
CREATED:20240214T221148Z
LAST-MODIFIED:20240214T221153Z
UID:281893-1717545600-1717631999@truganinap9.vic.edu.au
SUMMARY:Curriculum Day Wednesday 5th June 2024
DESCRIPTION:No students at school this day
URL:https://truganinap9.vic.edu.au/event/curriculum-day-wednesday-5th-june-2024-2/
END:VEVENT
BEGIN:VEVENT
DTSTART;VALUE=DATE:20240531
DTEND;VALUE=DATE:20240601
DTSTAMP:20260420T123241
CREATED:20240527T055441Z
LAST-MODIFIED:20240527T055445Z
UID:282172-1717113600-1717199999@truganinap9.vic.edu.au
SUMMARY:Dion Drummond Incursion
DESCRIPTION:Students in Year 7
URL:https://truganinap9.vic.edu.au/event/dion-drummond-incursion-3/
CATEGORIES:Year 7
END:VEVENT
BEGIN:VEVENT
DTSTART;VALUE=DATE:20240530
DTEND;VALUE=DATE:20240531
DTSTAMP:20260420T123241
CREATED:20240510T034031Z
LAST-MODIFIED:20240510T034035Z
UID:282126-1717027200-1717113599@truganinap9.vic.edu.au
SUMMARY:Dion Drummond Incursion
DESCRIPTION:Students in selected classes
URL:https://truganinap9.vic.edu.au/event/dion-drummond-incursion-2/
END:VEVENT
BEGIN:VEVENT
DTSTART;VALUE=DATE:20240529
DTEND;VALUE=DATE:20240530
DTSTAMP:20260420T123241
CREATED:20240510T032536Z
LAST-MODIFIED:20240510T032541Z
UID:282115-1716940800-1717027199@truganinap9.vic.edu.au
SUMMARY:Year 9 Boys Soccer
DESCRIPTION:Selected students in Year 9
URL:https://truganinap9.vic.edu.au/event/year-9-boys-soccer/
CATEGORIES:Year 9
END:VEVENT
BEGIN:VEVENT
DTSTART;VALUE=DATE:20240528
DTEND;VALUE=DATE:20240529
DTSTAMP:20260420T123241
CREATED:20240510T033926Z
LAST-MODIFIED:20240510T033930Z
UID:282124-1716854400-1716940799@truganinap9.vic.edu.au
SUMMARY:Dion Drummond Incursion
DESCRIPTION:Students in selected classes
URL:https://truganinap9.vic.edu.au/event/dion-drummond-incursion/
END:VEVENT
BEGIN:VEVENT
DTSTART;VALUE=DATE:20240527
DTEND;VALUE=DATE:20240604
DTSTAMP:20260420T123241
CREATED:20240527T055325Z
LAST-MODIFIED:20240527T055329Z
UID:282170-1716768000-1717459199@truganinap9.vic.edu.au
SUMMARY:Reconciliation Week
DESCRIPTION:
URL:https://truganinap9.vic.edu.au/event/reconciliation-week/
END:VEVENT
BEGIN:VEVENT
DTSTART;VALUE=DATE:20240527
DTEND;VALUE=DATE:20240528
DTSTAMP:20260420T123241
CREATED:20240510T033715Z
LAST-MODIFIED:20240510T033719Z
UID:282121-1716768000-1716854399@truganinap9.vic.edu.au
SUMMARY:Year 7 Boys Interschool Soccer
DESCRIPTION:Selected students in Year 7
URL:https://truganinap9.vic.edu.au/event/year-7-boys-interschool-soccer/
CATEGORIES:Year 7
END:VEVENT
BEGIN:VEVENT
DTSTART;VALUE=DATE:20240524
DTEND;VALUE=DATE:20240525
DTSTAMP:20260420T123241
CREATED:20240510T033448Z
LAST-MODIFIED:20240510T033503Z
UID:282119-1716508800-1716595199@truganinap9.vic.edu.au
SUMMARY:Year 8 Interschool Badminton
DESCRIPTION:Selected students in Year 8
URL:https://truganinap9.vic.edu.au/event/year-8-interschool-badminton/
CATEGORIES:Year 8
END:VEVENT
BEGIN:VEVENT
DTSTART;VALUE=DATE:20240522
DTEND;VALUE=DATE:20240525
DTSTAMP:20260420T123241
CREATED:20240422T062338Z
LAST-MODIFIED:20240422T062342Z
UID:282091-1716336000-1716595199@truganinap9.vic.edu.au
SUMMARY:Year 5 Camp - Group 2
DESCRIPTION:Selected students in Year 5B\, 5F\, 5G\, 5H
URL:https://truganinap9.vic.edu.au/event/year-5-camp-group-2/
CATEGORIES:Year 5
END:VEVENT
END:VCALENDAR