BEGIN:VCALENDAR
VERSION:2.0
PRODID:-//Truganina P-9 College - ECPv6.14.1//NONSGML v1.0//EN
CALSCALE:GREGORIAN
METHOD:PUBLISH
X-WR-CALNAME:Truganina P-9 College
X-ORIGINAL-URL:https://truganinap9.vic.edu.au
X-WR-CALDESC:Events for Truganina P-9 College
REFRESH-INTERVAL;VALUE=DURATION:PT1H
X-Robots-Tag:noindex
X-PUBLISHED-TTL:PT1H
BEGIN:VTIMEZONE
TZID:Australia/Melbourne
BEGIN:STANDARD
TZOFFSETFROM:+1100
TZOFFSETTO:+1000
TZNAME:AEST
DTSTART:20240406T160000
END:STANDARD
BEGIN:DAYLIGHT
TZOFFSETFROM:+1000
TZOFFSETTO:+1100
TZNAME:AEDT
DTSTART:20241005T160000
END:DAYLIGHT
END:VTIMEZONE
BEGIN:VEVENT
DTSTART;TZID=Australia/Melbourne:20240805T110000
DTEND;TZID=Australia/Melbourne:20240809T150000
DTSTAMP:20260420T151413
CREATED:20240806T061947Z
LAST-MODIFIED:20240806T062001Z
UID:282499-1722855600-1723215600@truganinap9.vic.edu.au
SUMMARY:Year 3 Swimming Program
DESCRIPTION:Students in Year 3
URL:https://truganinap9.vic.edu.au/event/year-3-swimming-program/
LOCATION:Saltwater Swim School\,\, 2 Shear Street\, Truganina\, Victoria\, 3029\, Australia
CATEGORIES:Year 3
END:VEVENT
BEGIN:VEVENT
DTSTART;TZID=Australia/Melbourne:20240807T080000
DTEND;TZID=Australia/Melbourne:20240807T170000
DTSTAMP:20260420T151413
CREATED:20240527T060136Z
LAST-MODIFIED:20240527T060140Z
UID:282188-1723017600-1723050000@truganinap9.vic.edu.au
SUMMARY:Australian Maths Competition - Years 4\, 8 & 9
DESCRIPTION:Selected students in Years 4\, 8 & 9
URL:https://truganinap9.vic.edu.au/event/australian-maths-competition-years-4-8-9/
CATEGORIES:Year 4,Year 8,Year 9
END:VEVENT
BEGIN:VEVENT
DTSTART;TZID=Australia/Melbourne:20240808T080000
DTEND;TZID=Australia/Melbourne:20240808T170000
DTSTAMP:20260420T151413
CREATED:20240527T060213Z
LAST-MODIFIED:20240527T060217Z
UID:282190-1723104000-1723136400@truganinap9.vic.edu.au
SUMMARY:Australian Maths Competition - Years 5 & 6
DESCRIPTION:Selected students in Years 5 & 6
URL:https://truganinap9.vic.edu.au/event/australian-maths-competition-years-5-6/
CATEGORIES:Year 5,Year 6
END:VEVENT
BEGIN:VEVENT
DTSTART;TZID=Australia/Melbourne:20240812T083500
DTEND;TZID=Australia/Melbourne:20240812T150000
DTSTAMP:20260420T151413
CREATED:20240716T010221Z
LAST-MODIFIED:20240716T010225Z
UID:282407-1723451700-1723474800@truganinap9.vic.edu.au
SUMMARY:Year 8 Boys and Girls Basketball
DESCRIPTION:Selected students in Year 8
URL:https://truganinap9.vic.edu.au/event/year-8-boys-and-girls-basketball/
LOCATION:Eagle Stadium\, 35 Ballan Road\, Werribee\, VIC\, 3030\, Australia
CATEGORIES:Year 8
END:VEVENT
BEGIN:VEVENT
DTSTART;TZID=Australia/Melbourne:20240812T084500
DTEND;TZID=Australia/Melbourne:20240812T153000
DTSTAMP:20260420T151413
CREATED:20240809T044021Z
LAST-MODIFIED:20240809T044029Z
UID:282511-1723452300-1723476600@truganinap9.vic.edu.au
SUMMARY:Year 6 Regional Hockey
DESCRIPTION:Selected students in Year 6
URL:https://truganinap9.vic.edu.au/event/year-6-regional-hockey/
LOCATION:Werribee Hockey Club\, McGrath Road\, Wyndham Vale\, VIC\, 3024\, Australia
CATEGORIES:Year 6
END:VEVENT
BEGIN:VEVENT
DTSTART;TZID=Australia/Melbourne:20240812T110000
DTEND;TZID=Australia/Melbourne:20240816T150000
DTSTAMP:20260420T151413
CREATED:20240809T044205Z
LAST-MODIFIED:20240809T044407Z
UID:282514-1723460400-1723820400@truganinap9.vic.edu.au
SUMMARY:Year 6 Swimming Program
DESCRIPTION:Students in Year 6A\, 6B\, 6C\, 6D\, 6E\, 6F
URL:https://truganinap9.vic.edu.au/event/year-6-swimming-program/
LOCATION:Saltwater Swim School\,\, 2 Shear Street\, Truganina\, Victoria\, 3029\, Australia
CATEGORIES:Year 6
END:VEVENT
BEGIN:VEVENT
DTSTART;TZID=Australia/Melbourne:20240814T080000
DTEND;TZID=Australia/Melbourne:20240816T170000
DTSTAMP:20260420T151413
CREATED:20240527T060248Z
LAST-MODIFIED:20240527T060255Z
UID:282192-1723622400-1723827600@truganinap9.vic.edu.au
SUMMARY:Year 9 Camp
DESCRIPTION:Selected students in Year 9
URL:https://truganinap9.vic.edu.au/event/year-9-camp/
CATEGORIES:Year 9
END:VEVENT
BEGIN:VEVENT
DTSTART;TZID=Australia/Melbourne:20240819T110000
DTEND;TZID=Australia/Melbourne:20240823T150000
DTSTAMP:20260420T151413
CREATED:20240809T044506Z
LAST-MODIFIED:20240809T044534Z
UID:282517-1724065200-1724425200@truganinap9.vic.edu.au
SUMMARY:Year 6 Swimming Program
DESCRIPTION:Students in Year 6G\, 6H\, 6I
URL:https://truganinap9.vic.edu.au/event/year-6-swimming-program-2/
LOCATION:Saltwater Swim School\,\, 2 Shear Street\, Truganina\, Victoria\, 3029\, Australia
CATEGORIES:Year 6
END:VEVENT
BEGIN:VEVENT
DTSTART;TZID=Australia/Melbourne:20240820T083000
DTEND;TZID=Australia/Melbourne:20240820T103000
DTSTAMP:20260420T151413
CREATED:20240809T044646Z
LAST-MODIFIED:20240809T044808Z
UID:282519-1724142600-1724149800@truganinap9.vic.edu.au
SUMMARY:Fire Rescue Victoria - Fire Ed for Foundation Incursion
DESCRIPTION:Students in Foundation
URL:https://truganinap9.vic.edu.au/event/fire-rescue-victoria-fire-ed-for-foundation-incursion/
CATEGORIES:Foundation
END:VEVENT
BEGIN:VEVENT
DTSTART;TZID=Australia/Melbourne:20240822T083500
DTEND;TZID=Australia/Melbourne:20240822T150000
DTSTAMP:20260420T151413
CREATED:20240809T044938Z
LAST-MODIFIED:20240809T044942Z
UID:282521-1724315700-1724338800@truganinap9.vic.edu.au
SUMMARY:Year 7 - 9 Division Athletics
DESCRIPTION:Selected students in Years 7 to 9
URL:https://truganinap9.vic.edu.au/event/year-7-9-division-athletics/
LOCATION:VU Athletics Track Werribee\, 235 Hoppers Lane\, Werribee\, VIC\, 3030\, Australia
CATEGORIES:Year 7,Year 8,Year 9
END:VEVENT
BEGIN:VEVENT
DTSTART;TZID=Australia/Melbourne:20240823T090000
DTEND;TZID=Australia/Melbourne:20240823T150000
DTSTAMP:20260420T151413
CREATED:20240815T005833Z
LAST-MODIFIED:20240815T005838Z
UID:282546-1724403600-1724425200@truganinap9.vic.edu.au
SUMMARY:Year 6 Billy Slater Shield Rugby Tournament
DESCRIPTION:Selected students in Year 6
URL:https://truganinap9.vic.edu.au/event/year-6-billy-slater-shield-rugby-tournament/
CATEGORIES:Year 6
END:VEVENT
BEGIN:VEVENT
DTSTART;TZID=Australia/Melbourne:20240828T160000
DTEND;TZID=Australia/Melbourne:20240828T163000
DTSTAMP:20260420T151413
CREATED:20240814T045641Z
LAST-MODIFIED:20240814T045650Z
UID:282523-1724860800-1724862600@truganinap9.vic.edu.au
SUMMARY:Year 7 Camp Information Night
DESCRIPTION:Student and Family Attendees of Year 7 Camp
URL:https://truganinap9.vic.edu.au/event/year-7-camp-information-night/
LOCATION:Truganina College\, 55 Clearwood Drive\, Truganina\, VIC\, 3029\, Australia
CATEGORIES:Year 7
END:VEVENT
BEGIN:VEVENT
DTSTART;TZID=Australia/Melbourne:20240829T090000
DTEND;TZID=Australia/Melbourne:20240829T150000
DTSTAMP:20260420T151413
CREATED:20240814T045915Z
LAST-MODIFIED:20240814T045920Z
UID:282526-1724922000-1724943600@truganinap9.vic.edu.au
SUMMARY:Year 1 Fair Park Excursion
DESCRIPTION:Students in Year 1
URL:https://truganinap9.vic.edu.au/event/year-1-fair-park-excursion/
LOCATION:Fairy Park\, C141/2388 Geelong-Ballan Road\, Anakie\, VIC\, 3213\, Australia
CATEGORIES:Year 1
END:VEVENT
BEGIN:VEVENT
DTSTART;TZID=Australia/Melbourne:20240830T090000
DTEND;TZID=Australia/Melbourne:20240830T140000
DTSTAMP:20260420T151413
CREATED:20240829T060026Z
LAST-MODIFIED:20240829T060149Z
UID:282573-1725008400-1725026400@truganinap9.vic.edu.au
SUMMARY:Year 7 Tennis Excursion
DESCRIPTION:Students in Year 7
URL:https://truganinap9.vic.edu.au/event/year-7-tennis-excursion/
LOCATION:Truganina Tennis Courts\, Alcock Reserve\, Truganina\, VIC\, 3029\, Australia
CATEGORIES:Year 7
END:VEVENT
BEGIN:VEVENT
DTSTART;TZID=Australia/Melbourne:20240902T080000
DTEND;TZID=Australia/Melbourne:20240904T170000
DTSTAMP:20260420T151413
CREATED:20240603T001856Z
LAST-MODIFIED:20240603T001903Z
UID:282212-1725264000-1725469200@truganinap9.vic.edu.au
SUMMARY:Year 7 Camp - Roses Gap
DESCRIPTION:Selected students in Year 7
URL:https://truganinap9.vic.edu.au/event/year-7-camp-roses-gap/
CATEGORIES:Year 7
END:VEVENT
BEGIN:VEVENT
DTSTART;TZID=Australia/Melbourne:20240903T083500
DTEND;TZID=Australia/Melbourne:20240903T150000
DTSTAMP:20260420T151413
CREATED:20240814T050317Z
LAST-MODIFIED:20240814T051218Z
UID:282529-1725352500-1725375600@truganinap9.vic.edu.au
SUMMARY:Foundation Animal Land Children's Farm Excursion
DESCRIPTION:Students in Foundation A\, B\, C\, D
URL:https://truganinap9.vic.edu.au/event/foundation-animal-land-childrens-farm-excursion/
LOCATION:Animal Land Diggers Rest\, 200 Duncans Lane\, Diggers Rest\, VIC\, 3427\, Australia
CATEGORIES:Foundation
END:VEVENT
BEGIN:VEVENT
DTSTART;TZID=Australia/Melbourne:20240903T090000
DTEND;TZID=Australia/Melbourne:20240903T144500
DTSTAMP:20260420T151413
CREATED:20240814T055313Z
LAST-MODIFIED:20240814T055313Z
UID:282536-1725354000-1725374700@truganinap9.vic.edu.au
SUMMARY:Year 4 IMAX Excursion
DESCRIPTION:Students in Year 4D\, E\, F\, I\, J
URL:https://truganinap9.vic.edu.au/event/year-4-imax-excursion/
LOCATION:IMAX Melbourne\, Rathdowne St\, Carlton\, Victoria\, 3000\, Australia
CATEGORIES:Year 4
END:VEVENT
BEGIN:VEVENT
DTSTART;TZID=Australia/Melbourne:20240904T083500
DTEND;TZID=Australia/Melbourne:20240904T150000
DTSTAMP:20260420T151413
CREATED:20240814T054850Z
LAST-MODIFIED:20240814T054850Z
UID:282532-1725438900-1725462000@truganinap9.vic.edu.au
SUMMARY:Foundation Animal Land Children's Farm Excursion
DESCRIPTION:Students in Foundation E\, F\, G\, H
URL:https://truganinap9.vic.edu.au/event/foundation-animal-land-childrens-farm-excursion-2/
LOCATION:Animal Land Diggers Rest\, 200 Duncans Lane\, Diggers Rest\, VIC\, 3427\, Australia
CATEGORIES:Foundation
END:VEVENT
BEGIN:VEVENT
DTSTART;TZID=Australia/Melbourne:20240904T090000
DTEND;TZID=Australia/Melbourne:20240904T150000
DTSTAMP:20260420T151413
CREATED:20240829T060358Z
LAST-MODIFIED:20240829T060418Z
UID:282576-1725440400-1725462000@truganinap9.vic.edu.au
SUMMARY:Year 4 IMAX Excursion
DESCRIPTION:Students in Year 4A\, B\, C\, G\, H
URL:https://truganinap9.vic.edu.au/event/year-4-imax-excursion-2/
LOCATION:IMAX Melbourne\, Rathdowne St\, Carlton\, Victoria\, 3000\, Australia
CATEGORIES:Year 4
END:VEVENT
BEGIN:VEVENT
DTSTART;VALUE=DATE:20240905
DTEND;VALUE=DATE:20240906
DTSTAMP:20260420T151413
CREATED:20240214T221312Z
LAST-MODIFIED:20240214T221316Z
UID:281897-1725494400-1725580799@truganinap9.vic.edu.au
SUMMARY:Curriculum Day Thursday 5th September 2024
DESCRIPTION:No students at school this day
URL:https://truganinap9.vic.edu.au/event/curriculum-day-thursday-5th-september-2024/
END:VEVENT
BEGIN:VEVENT
DTSTART;TZID=Australia/Melbourne:20240910T090000
DTEND;TZID=Australia/Melbourne:20240910T100000
DTSTAMP:20260420T151413
CREATED:20240620T062346Z
LAST-MODIFIED:20240620T062354Z
UID:282379-1725958800-1725962400@truganinap9.vic.edu.au
SUMMARY:Year 2 African Drumming Incursion
DESCRIPTION:Students in Year 2
URL:https://truganinap9.vic.edu.au/event/year-2-african-drumming-incursion/
CATEGORIES:Year 2
END:VEVENT
BEGIN:VEVENT
DTSTART;TZID=Australia/Melbourne:20240910T090000
DTEND;TZID=Australia/Melbourne:20240910T150000
DTSTAMP:20260420T151413
CREATED:20240815T010811Z
LAST-MODIFIED:20240815T010817Z
UID:282553-1725958800-1725980400@truganinap9.vic.edu.au
SUMMARY:Year 4\, 5\, & 6 Division Athletics Carnival
DESCRIPTION:Selected students in Years 4\, 5\, & 6
URL:https://truganinap9.vic.edu.au/event/year-4-5-6-division-athletics-carnival/
CATEGORIES:Year 4,Year 5,Year 6
END:VEVENT
BEGIN:VEVENT
DTSTART;TZID=Australia/Melbourne:20240918T030000
DTEND;TZID=Australia/Melbourne:20240918T160000
DTSTAMP:20260420T151413
CREATED:20240815T005041Z
LAST-MODIFIED:20240815T005051Z
UID:282538-1726628400-1726675200@truganinap9.vic.edu.au
SUMMARY:Family Maths Evening
DESCRIPTION:Students/Families in Foundation to Year 1 and Years 6 to 9. 
URL:https://truganinap9.vic.edu.au/event/family-maths-evening/
LOCATION:Truganina College\, 55 Clearwood Drive\, Truganina\, VIC\, 3029\, Australia
CATEGORIES:Foundation,Year 1,Year 6,Year 7,Year 8,Year 9
END:VEVENT
BEGIN:VEVENT
DTSTART;TZID=Australia/Melbourne:20240920T083500
DTEND;TZID=Australia/Melbourne:20240920T143000
DTSTAMP:20260420T151413
CREATED:20240716T010440Z
LAST-MODIFIED:20240716T010445Z
UID:282410-1726821300-1726842600@truganinap9.vic.edu.au
SUMMARY:Last Day of Term 3
DESCRIPTION:Students finish school at 2.30pm
URL:https://truganinap9.vic.edu.au/event/last-day-of-term-3/
END:VEVENT
BEGIN:VEVENT
DTSTART;TZID=Australia/Melbourne:20241007T083500
DTEND;TZID=Australia/Melbourne:20241007T150000
DTSTAMP:20260420T151413
CREATED:20240716T010816Z
LAST-MODIFIED:20240716T010820Z
UID:282412-1728290100-1728313200@truganinap9.vic.edu.au
SUMMARY:First Day of Term 4
DESCRIPTION:Students start at 8.35am
URL:https://truganinap9.vic.edu.au/event/first-day-of-term-4/
END:VEVENT
BEGIN:VEVENT
DTSTART;TZID=Australia/Melbourne:20241010T090000
DTEND;TZID=Australia/Melbourne:20241010T120000
DTSTAMP:20260420T151413
CREATED:20241009T043005Z
LAST-MODIFIED:20241009T051202Z
UID:282611-1728550800-1728561600@truganinap9.vic.edu.au
SUMMARY:Foundation & Year 1 Kaboom Kid Sports Incursion
DESCRIPTION:Students in Foundation & Year 1
URL:https://truganinap9.vic.edu.au/event/foundation-kaboom-kid-sports-incursion/
LOCATION:Truganina College\, 55 Clearwood Drive\, Truganina\, VIC\, 3029\, Australia
CATEGORIES:Foundation,Year 1
END:VEVENT
BEGIN:VEVENT
DTSTART;TZID=Australia/Melbourne:20241010T090000
DTEND;TZID=Australia/Melbourne:20241010T150000
DTSTAMP:20260420T151413
CREATED:20241009T043450Z
LAST-MODIFIED:20241009T051251Z
UID:282613-1728550800-1728572400@truganinap9.vic.edu.au
SUMMARY:Year 6 Division Softball
DESCRIPTION:Selected students in Year 6
URL:https://truganinap9.vic.edu.au/event/year-6-division-softball/
LOCATION:Werribee Hockey Club\, McGrath Road\, Wyndham Vale\, VIC\, 3024\, Australia
CATEGORIES:Year 6
END:VEVENT
BEGIN:VEVENT
DTSTART;TZID=Australia/Melbourne:20241014T100000
DTEND;TZID=Australia/Melbourne:20241014T110000
DTSTAMP:20260420T151413
CREATED:20241009T043714Z
LAST-MODIFIED:20241009T043721Z
UID:282615-1728900000-1728903600@truganinap9.vic.edu.au
SUMMARY:Year 9 Career Incursion - Barber
DESCRIPTION:Selected students in Year 9
URL:https://truganinap9.vic.edu.au/event/year-9-career-incursion-barber/
LOCATION:Truganina College\, 55 Clearwood Drive\, Truganina\, VIC\, 3029\, Australia
CATEGORIES:Year 9
END:VEVENT
BEGIN:VEVENT
DTSTART;TZID=Australia/Melbourne:20241015T090000
DTEND;TZID=Australia/Melbourne:20241015T150000
DTSTAMP:20260420T151413
CREATED:20241009T044037Z
LAST-MODIFIED:20241009T044043Z
UID:282618-1728982800-1729004400@truganinap9.vic.edu.au
SUMMARY:Year 6 Division Cricket
DESCRIPTION:Selected students in Year 6
URL:https://truganinap9.vic.edu.au/event/year-6-division-cricket/
LOCATION:Galvin Park Werribee\, Shaws Road\, Werribee\, Victoria\, 3030\, Australia
CATEGORIES:Year 6
END:VEVENT
BEGIN:VEVENT
DTSTART;TZID=Australia/Melbourne:20241016T090000
DTEND;TZID=Australia/Melbourne:20241016T153000
DTSTAMP:20260420T151413
CREATED:20241009T044434Z
LAST-MODIFIED:20241009T044443Z
UID:282622-1729069200-1729092600@truganinap9.vic.edu.au
SUMMARY:Tarneit & Truganina Sport Association School Champions Day
DESCRIPTION:Selected students in Year 6
URL:https://truganinap9.vic.edu.au/event/tarneit-truganina-sport-association-school-champions-day/
LOCATION:MCG\, Brunton Ave\, Richmond\, VIC\, 3002\, Australia
CATEGORIES:Year 6
END:VEVENT
END:VCALENDAR