BEGIN:VCALENDAR
VERSION:2.0
PRODID:-//Truganina P-9 College - ECPv6.14.1//NONSGML v1.0//EN
CALSCALE:GREGORIAN
METHOD:PUBLISH
X-ORIGINAL-URL:https://truganinap9.vic.edu.au
X-WR-CALDESC:Events for Truganina P-9 College
REFRESH-INTERVAL;VALUE=DURATION:PT1H
X-Robots-Tag:noindex
X-PUBLISHED-TTL:PT1H
BEGIN:VTIMEZONE
TZID:Australia/Melbourne
BEGIN:STANDARD
TZOFFSETFROM:+1100
TZOFFSETTO:+1000
TZNAME:AEST
DTSTART:20240406T160000
END:STANDARD
BEGIN:DAYLIGHT
TZOFFSETFROM:+1000
TZOFFSETTO:+1100
TZNAME:AEDT
DTSTART:20241005T160000
END:DAYLIGHT
BEGIN:STANDARD
TZOFFSETFROM:+1100
TZOFFSETTO:+1000
TZNAME:AEST
DTSTART:20250405T160000
END:STANDARD
BEGIN:DAYLIGHT
TZOFFSETFROM:+1000
TZOFFSETTO:+1100
TZNAME:AEDT
DTSTART:20251004T160000
END:DAYLIGHT
END:VTIMEZONE
BEGIN:VEVENT
DTSTART;TZID=Australia/Melbourne:20241210T153000
DTEND;TZID=Australia/Melbourne:20241210T193000
DTSTAMP:20260420T073828
CREATED:20241112T000052Z
LAST-MODIFIED:20241112T000356Z
UID:282762-1733844600-1733859000@truganinap9.vic.edu.au
SUMMARY:Foundation to Year 3 Parent Teacher Interviews
DESCRIPTION:Parents and students of Foundation to Year 3
URL:https://truganinap9.vic.edu.au/event/foundation-to-year-3-parent-teacher-interviews/
LOCATION:Truganina College\, 55 Clearwood Drive\, Truganina\, VIC\, 3029\, Australia
CATEGORIES:Foundation,Year 1,Year 2,Year 3
END:VEVENT
BEGIN:VEVENT
DTSTART;TZID=Australia/Melbourne:20241211T033000
DTEND;TZID=Australia/Melbourne:20241211T193000
DTSTAMP:20260420T073828
CREATED:20241112T001642Z
LAST-MODIFIED:20241112T001649Z
UID:282764-1733887800-1733945400@truganinap9.vic.edu.au
SUMMARY:Year 4 to Year 6 Parent Teacher Interviews
DESCRIPTION:Parents and students of Years 4 to Year 9
URL:https://truganinap9.vic.edu.au/event/year-4-to-year-6-parent-teacher-interviews/
LOCATION:Truganina College\, 55 Clearwood Drive\, Truganina\, VIC\, 3029\, Australia
CATEGORIES:Year 4,Year 5,Year 6,Year 7,Year 8,Year 9
END:VEVENT
BEGIN:VEVENT
DTSTART;TZID=Australia/Melbourne:20241211T123000
DTEND;TZID=Australia/Melbourne:20241211T150000
DTSTAMP:20260420T073828
CREATED:20241121T032608Z
LAST-MODIFIED:20241121T032615Z
UID:282791-1733920200-1733929200@truganinap9.vic.edu.au
SUMMARY:Year 8 Netball Match
DESCRIPTION:Selected students in Year 8
URL:https://truganinap9.vic.edu.au/event/year-8-netball-match/
LOCATION:Doherty’s Creek P-9 College\, 60 Elmhurst Road\, Truganina\, VIC\, 3029\, Australia
CATEGORIES:Year 8
END:VEVENT
BEGIN:VEVENT
DTSTART;TZID=Australia/Melbourne:20241216T083000
DTEND;TZID=Australia/Melbourne:20241216T150000
DTSTAMP:20260420T073828
CREATED:20241021T003646Z
LAST-MODIFIED:20241021T003713Z
UID:282698-1734337800-1734361200@truganinap9.vic.edu.au
SUMMARY:Year 6 Graduation
DESCRIPTION:Students in Year 6
URL:https://truganinap9.vic.edu.au/event/year-6-graduation/
LOCATION:VIC
CATEGORIES:Year 6
END:VEVENT
BEGIN:VEVENT
DTSTART;TZID=Australia/Melbourne:20241217T160000
DTEND;TZID=Australia/Melbourne:20241217T180000
DTSTAMP:20260420T073828
CREATED:20241021T003802Z
LAST-MODIFIED:20241021T003809Z
UID:282700-1734451200-1734458400@truganinap9.vic.edu.au
SUMMARY:Year 9 Graduation
DESCRIPTION:Students in Year 9
URL:https://truganinap9.vic.edu.au/event/year-9-graduation/
LOCATION:Truganina College\, 55 Clearwood Drive\, Truganina\, VIC\, 3029\, Australia
CATEGORIES:Year 9
END:VEVENT
BEGIN:VEVENT
DTSTART;TZID=Australia/Melbourne:20241220T083600
DTEND;TZID=Australia/Melbourne:20241220T133000
DTSTAMP:20260420T073828
CREATED:20241121T032744Z
LAST-MODIFIED:20241203T050902Z
UID:282797-1734683760-1734701400@truganinap9.vic.edu.au
SUMMARY:Last Day of Term 4
DESCRIPTION:School finishes at 1.30pm
URL:https://truganinap9.vic.edu.au/event/last-day-of-term-4/
LOCATION:VIC
END:VEVENT
BEGIN:VEVENT
DTSTART;TZID=Australia/Melbourne:20250128T083500
DTEND;TZID=Australia/Melbourne:20250128T150000
DTSTAMP:20260420T073828
CREATED:20241125T044733Z
LAST-MODIFIED:20241125T044733Z
UID:282804-1738053300-1738076400@truganinap9.vic.edu.au
SUMMARY:Curriculum Day
DESCRIPTION:No students at school on this day.
URL:https://truganinap9.vic.edu.au/event/curriculum-day/
LOCATION:VIC
CATEGORIES:Foundation,Year 1,Year 2,Year 3,Year 4,Year 5,Year 6,Year 7,Year 8,Year 9
END:VEVENT
BEGIN:VEVENT
DTSTART;TZID=Australia/Melbourne:20250129T083500
DTEND;TZID=Australia/Melbourne:20250129T150000
DTSTAMP:20260420T073828
CREATED:20241125T044818Z
LAST-MODIFIED:20241125T044829Z
UID:282807-1738139700-1738162800@truganinap9.vic.edu.au
SUMMARY:Curriculum Day
DESCRIPTION:No students at school on this day.
URL:https://truganinap9.vic.edu.au/event/curriculum-day-2/
LOCATION:VIC
CATEGORIES:Foundation,Year 1,Year 2,Year 3,Year 4,Year 5,Year 6,Year 7,Year 8,Year 9
END:VEVENT
BEGIN:VEVENT
DTSTART;TZID=Australia/Melbourne:20250130T083600
DTEND;TZID=Australia/Melbourne:20250130T150000
DTSTAMP:20260420T073828
CREATED:20241121T033622Z
LAST-MODIFIED:20241127T045527Z
UID:282799-1738226160-1738249200@truganinap9.vic.edu.au
SUMMARY:First Day of Term 1 2025
DESCRIPTION:Students in Years 1 to Year 9 \nSchool starts at 8.36am
URL:https://truganinap9.vic.edu.au/event/first-day-of-term-1-2025/
LOCATION:VIC
CATEGORIES:Year 1,Year 2,Year 3,Year 4,Year 5,Year 6,Year 7,Year 8,Year 9
END:VEVENT
BEGIN:VEVENT
DTSTART;TZID=Australia/Melbourne:20250205T083600
DTEND;TZID=Australia/Melbourne:20250205T150000
DTSTAMP:20260420T073828
CREATED:20241121T033937Z
LAST-MODIFIED:20241213T031439Z
UID:282801-1738744560-1738767600@truganinap9.vic.edu.au
SUMMARY:First Day of Term 1 2025 Foundation students
DESCRIPTION:Students in Foundation start school on this day at 8.36am. 
URL:https://truganinap9.vic.edu.au/event/first-day-of-term-1-2025-foundation-students/
LOCATION:VIC
CATEGORIES:Foundation
END:VEVENT
BEGIN:VEVENT
DTSTART;TZID=Australia/Melbourne:20250213T084500
DTEND;TZID=Australia/Melbourne:20250213T150000
DTSTAMP:20260420T073828
CREATED:20250212T041547Z
LAST-MODIFIED:20250212T041554Z
UID:283197-1739436300-1739458800@truganinap9.vic.edu.au
SUMMARY:Year 9 Interschool Cricket
DESCRIPTION:Selected students in Year 9
URL:https://truganinap9.vic.edu.au/event/year-9-interschool-cricket-2/
LOCATION:Goddard Street Reserve\, Goddard Street\, Tarneit\, Vic\, 3029\, Australia
CATEGORIES:Year 9
END:VEVENT
BEGIN:VEVENT
DTSTART;TZID=Australia/Melbourne:20250227T083000
DTEND;TZID=Australia/Melbourne:20250227T150000
DTSTAMP:20260420T073828
CREATED:20250226T031205Z
LAST-MODIFIED:20250226T031212Z
UID:283277-1740645000-1740668400@truganinap9.vic.edu.au
SUMMARY:District Swimming
DESCRIPTION:Selected students in Years 4\, 5 & 6
URL:https://truganinap9.vic.edu.au/event/district-swimming-2/
LOCATION:Werribee Outdoor Pool\, Chirnside Park\, 220 Watton St\, Werribee\, Victoria\, 3030\, Australia
CATEGORIES:Year 4,Year 5,Year 6
END:VEVENT
BEGIN:VEVENT
DTSTART;TZID=Australia/Melbourne:20250305T083500
DTEND;TZID=Australia/Melbourne:20250305T150000
DTSTAMP:20260420T073828
CREATED:20250226T031332Z
LAST-MODIFIED:20250226T031337Z
UID:283279-1741163700-1741186800@truganinap9.vic.edu.au
SUMMARY:Year 9 Girls Volleyball
DESCRIPTION:Selected students in Year 9
URL:https://truganinap9.vic.edu.au/event/year-9-girls-volleyball/
LOCATION:Eagle Stadium\, 35 Ballan Road\, Werribee\, VIC\, 3030\, Australia
CATEGORIES:Year 9
END:VEVENT
BEGIN:VEVENT
DTSTART;TZID=Australia/Melbourne:20250306T083000
DTEND;TZID=Australia/Melbourne:20250306T150000
DTSTAMP:20260420T073828
CREATED:20250305T043658Z
LAST-MODIFIED:20250305T043719Z
UID:283292-1741249800-1741273200@truganinap9.vic.edu.au
SUMMARY:Year 7 Tennis
DESCRIPTION:Selected students in Year 7
URL:https://truganinap9.vic.edu.au/event/year-7-tennis/
LOCATION:Saltwater Reserve\, Point Cook\, Saltwater Reserve\, Point Cook\, VIC\, Australia
CATEGORIES:Year 7
END:VEVENT
BEGIN:VEVENT
DTSTART;TZID=Australia/Melbourne:20250307T083500
DTEND;TZID=Australia/Melbourne:20250307T150000
DTSTAMP:20260420T073828
CREATED:20250212T042021Z
LAST-MODIFIED:20250212T042036Z
UID:283199-1741336500-1741359600@truganinap9.vic.edu.au
SUMMARY:Year 8 STEM Elective Excursion - Wyndham Tech School
DESCRIPTION:Students in Year 8 STEM
URL:https://truganinap9.vic.edu.au/event/year-8-stem-elective-excursion-wyndham-tech-school/
LOCATION:Victoria University Werribee Campus\, Gate 2\, Building 14/235 Hoppers Lane\, werribee\, VIC\, 3030\, Australia
CATEGORIES:Year 8
END:VEVENT
BEGIN:VEVENT
DTSTART;TZID=Australia/Melbourne:20250307T090000
DTEND;TZID=Australia/Melbourne:20250307T150000
DTSTAMP:20260420T073828
CREATED:20250226T031515Z
LAST-MODIFIED:20250226T031520Z
UID:283281-1741338000-1741359600@truganinap9.vic.edu.au
SUMMARY:Year 9 Boys Volleyball
DESCRIPTION:Selected students in Year 9
URL:https://truganinap9.vic.edu.au/event/year-9-boys-volleyball/
LOCATION:Eagle Stadium\, 35 Ballan Road\, Werribee\, VIC\, 3030\, Australia
CATEGORIES:Year 9
END:VEVENT
BEGIN:VEVENT
DTSTART;TZID=Australia/Melbourne:20250307T130000
DTEND;TZID=Australia/Melbourne:20250307T140000
DTSTAMP:20260420T073828
CREATED:20250226T031654Z
LAST-MODIFIED:20250226T031701Z
UID:283284-1741352400-1741356000@truganinap9.vic.edu.au
SUMMARY:Western United Soccer Club Incursion
DESCRIPTION:Students in Years 3 & 4
URL:https://truganinap9.vic.edu.au/event/western-united-soccer-club-incursion/
LOCATION:Truganina College\, 55 Clearwood Drive\, Truganina\, VIC\, 3029\, Australia
CATEGORIES:Year 3,Year 4
END:VEVENT
BEGIN:VEVENT
DTSTART;TZID=Australia/Melbourne:20250310T080000
DTEND;TZID=Australia/Melbourne:20250310T170000
DTSTAMP:20260420T073828
CREATED:20250212T043546Z
LAST-MODIFIED:20250212T043555Z
UID:283206-1741593600-1741626000@truganinap9.vic.edu.au
SUMMARY:Labour Day Public Holiday
DESCRIPTION:No students at school on this day
URL:https://truganinap9.vic.edu.au/event/labour-day-public-holiday/
LOCATION:VIC
END:VEVENT
BEGIN:VEVENT
DTSTART;TZID=Australia/Melbourne:20250312T083600
DTEND;TZID=Australia/Melbourne:20250317T150000
DTSTAMP:20260420T073828
CREATED:20250212T042330Z
LAST-MODIFIED:20250313T050736Z
UID:283202-1741768560-1742223600@truganinap9.vic.edu.au
SUMMARY:NAPLAN
DESCRIPTION:Students in Years 3\, 5\, 7 & 9
URL:https://truganinap9.vic.edu.au/event/naplan/
LOCATION:Truganina College\, 55 Clearwood Drive\, Truganina\, VIC\, 3029\, Australia
CATEGORIES:Year 3,Year 5,Year 7,Year 9
END:VEVENT
BEGIN:VEVENT
DTSTART;TZID=Australia/Melbourne:20250314T083000
DTEND;TZID=Australia/Melbourne:20250314T150000
DTSTAMP:20260420T073828
CREATED:20250305T043904Z
LAST-MODIFIED:20250305T043911Z
UID:283295-1741941000-1741964400@truganinap9.vic.edu.au
SUMMARY:Year 8 Girls & Boys Volleyball
DESCRIPTION:Selected students in Year 8
URL:https://truganinap9.vic.edu.au/event/year-8-girls-boys-volleyball/
LOCATION:Eagle Stadium\, 35 Ballan Road\, Werribee\, VIC\, 3030\, Australia
CATEGORIES:Year 8
END:VEVENT
BEGIN:VEVENT
DTSTART;TZID=Australia/Melbourne:20250319T083500
DTEND;TZID=Australia/Melbourne:20250319T150000
DTSTAMP:20260420T073828
CREATED:20250305T044046Z
LAST-MODIFIED:20250305T044111Z
UID:283297-1742373300-1742396400@truganinap9.vic.edu.au
SUMMARY:Year 8 Tennis
DESCRIPTION:Selected students in Year 8
URL:https://truganinap9.vic.edu.au/event/year-8-tennis/
LOCATION:Saltwater Reserve\, Point Cook\, Saltwater Reserve\, Point Cook\, VIC\, Australia
CATEGORIES:Year 8
END:VEVENT
BEGIN:VEVENT
DTSTART;TZID=Australia/Melbourne:20250320T090000
DTEND;TZID=Australia/Melbourne:20250320T150000
DTSTAMP:20260420T073828
CREATED:20250305T044241Z
LAST-MODIFIED:20250305T044252Z
UID:283300-1742461200-1742482800@truganinap9.vic.edu.au
SUMMARY:Year 9 Outdoor Education - Werribee Gorge Circuit Walk
DESCRIPTION:Students in Year 9 Outdoor Education Elective
URL:https://truganinap9.vic.edu.au/event/year-9-outdoor-education-werribee-gorge-circuit-walk/
LOCATION:Werribee Gorge State Park\, 204 Myers Road\, Pentland Hills\, VIC\, 3341\, Australia
CATEGORIES:Year 9
END:VEVENT
BEGIN:VEVENT
DTSTART;TZID=Australia/Melbourne:20250324T170000
DTEND;TZID=Australia/Melbourne:20250324T180000
DTSTAMP:20260420T073828
CREATED:20250212T042535Z
LAST-MODIFIED:20250212T043228Z
UID:283204-1742835600-1742839200@truganinap9.vic.edu.au
SUMMARY:2025 Annual Report to Community
DESCRIPTION:5pm to 6pm in the College Library.
URL:https://truganinap9.vic.edu.au/event/2025-annual-report-to-community/
LOCATION:Truganina College\, 55 Clearwood Drive\, Truganina\, VIC\, 3029\, Australia
CATEGORIES:Foundation,Year 1,Year 2,Year 3,Year 4,Year 5,Year 6,Year 7,Year 8,Year 9
END:VEVENT
BEGIN:VEVENT
DTSTART;TZID=Australia/Melbourne:20250326T083000
DTEND;TZID=Australia/Melbourne:20250326T150000
DTSTAMP:20260420T073828
CREATED:20250319T014235Z
LAST-MODIFIED:20250319T014256Z
UID:283315-1742977800-1743001200@truganinap9.vic.edu.au
SUMMARY:Year 8 Girls Netball
DESCRIPTION:Selected students in Year 8
URL:https://truganinap9.vic.edu.au/event/year-8-girls-netball/
LOCATION:Eagle Stadium\, 35 Ballan Road\, Werribee\, VIC\, 3030\, Australia
CATEGORIES:Year 8
END:VEVENT
BEGIN:VEVENT
DTSTART;TZID=Australia/Melbourne:20250328T083000
DTEND;TZID=Australia/Melbourne:20250328T150000
DTSTAMP:20260420T073828
CREATED:20250319T014600Z
LAST-MODIFIED:20250319T014755Z
UID:283317-1743150600-1743174000@truganinap9.vic.edu.au
SUMMARY:Year 7 STEM Scienceworks Excursion
DESCRIPTION:Selected students in Year 7 STEM elective.
URL:https://truganinap9.vic.edu.au/event/year-7-stem-scienceworks-excursion/
LOCATION:Scienceworks\, 2 Booker St\, Sportswood\, VIC\, 3015\, Australia
CATEGORIES:Year 7
END:VEVENT
BEGIN:VEVENT
DTSTART;TZID=Australia/Melbourne:20250328T083500
DTEND;TZID=Australia/Melbourne:20250328T150000
DTSTAMP:20260420T073828
CREATED:20250319T015044Z
LAST-MODIFIED:20250319T015052Z
UID:283320-1743150900-1743174000@truganinap9.vic.edu.au
SUMMARY:Year 8 Wyndham Tech School - Tech Start Up in a Day Excursion
DESCRIPTION:Students in Year 8 STEM elective.
URL:https://truganinap9.vic.edu.au/event/year-8-wyndham-tech-school-tech-start-up-in-a-day-excursion/
LOCATION:Victoria University Werribee Campus\, Gate 2\, Building 14/235 Hoppers Lane\, werribee\, VIC\, 3030\, Australia
CATEGORIES:Year 8
END:VEVENT
BEGIN:VEVENT
DTSTART;TZID=Australia/Melbourne:20250401T090000
DTEND;TZID=Australia/Melbourne:20250401T113000
DTSTAMP:20260420T073828
CREATED:20250319T015337Z
LAST-MODIFIED:20250319T015344Z
UID:283322-1743498000-1743507000@truganinap9.vic.edu.au
SUMMARY:Year 1 & 2 Kaboom Kids Incursion
DESCRIPTION:Students in Years 1 & 2
URL:https://truganinap9.vic.edu.au/event/year-1-2-kaboom-kids-incursion/
LOCATION:Truganina College\, 55 Clearwood Drive\, Truganina\, VIC\, 3029\, Australia
CATEGORIES:Year 1,Year 2
END:VEVENT
BEGIN:VEVENT
DTSTART;TZID=Australia/Melbourne:20250402T083600
DTEND;TZID=Australia/Melbourne:20250402T150000
DTSTAMP:20260420T073828
CREATED:20250319T015753Z
LAST-MODIFIED:20250319T020111Z
UID:283324-1743582960-1743606000@truganinap9.vic.edu.au
SUMMARY:Harmony Day Assembly - Years 7-9
DESCRIPTION:Students in Years 7 – 9
URL:https://truganinap9.vic.edu.au/event/harmony-day-assembly-years-7-9/
LOCATION:Truganina College\, 55 Clearwood Drive\, Truganina\, VIC\, 3029\, Australia
CATEGORIES:Year 7,Year 8,Year 9
END:VEVENT
BEGIN:VEVENT
DTSTART;TZID=Australia/Melbourne:20250404T083600
DTEND;TZID=Australia/Melbourne:20250404T143000
DTSTAMP:20260420T073828
CREATED:20250212T043828Z
LAST-MODIFIED:20250212T043933Z
UID:283208-1743755760-1743777000@truganinap9.vic.edu.au
SUMMARY:Last Day of Term 1
DESCRIPTION:School finishes at 2.30pm
URL:https://truganinap9.vic.edu.au/event/last-day-of-term-1/
LOCATION:VIC
END:VEVENT
BEGIN:VEVENT
DTSTART;TZID=Australia/Melbourne:20250404T083600
DTEND;TZID=Australia/Melbourne:20250404T143000
DTSTAMP:20260420T073828
CREATED:20250319T020221Z
LAST-MODIFIED:20250319T020228Z
UID:283327-1743755760-1743777000@truganinap9.vic.edu.au
SUMMARY:Cultural Dress Up Day
DESCRIPTION:All students
URL:https://truganinap9.vic.edu.au/event/cultural-dress-up-day/
LOCATION:Truganina College\, 55 Clearwood Drive\, Truganina\, VIC\, 3029\, Australia
CATEGORIES:Foundation,Year 1,Year 2,Year 3,Year 4,Year 5,Year 6,Year 7,Year 8,Year 9
END:VEVENT
END:VCALENDAR