BEGIN:VCALENDAR
VERSION:2.0
PRODID:-//Truganina P-9 College - ECPv6.14.1//NONSGML v1.0//EN
CALSCALE:GREGORIAN
METHOD:PUBLISH
X-WR-CALNAME:Truganina P-9 College
X-ORIGINAL-URL:https://truganinap9.vic.edu.au
X-WR-CALDESC:Events for Truganina P-9 College
REFRESH-INTERVAL;VALUE=DURATION:PT1H
X-Robots-Tag:noindex
X-PUBLISHED-TTL:PT1H
BEGIN:VTIMEZONE
TZID:Australia/Melbourne
BEGIN:STANDARD
TZOFFSETFROM:+1100
TZOFFSETTO:+1000
TZNAME:AEST
DTSTART:20230401T160000
END:STANDARD
BEGIN:DAYLIGHT
TZOFFSETFROM:+1000
TZOFFSETTO:+1100
TZNAME:AEDT
DTSTART:20230930T160000
END:DAYLIGHT
END:VTIMEZONE
BEGIN:VEVENT
DTSTART;VALUE=DATE:20231113
DTEND;VALUE=DATE:20231118
DTSTAMP:20260420T151242
CREATED:20231101T003352Z
LAST-MODIFIED:20231107T230613Z
UID:281116-1699833600-1700265599@truganinap9.vic.edu.au
SUMMARY:November – Year 5 Swimming Program – Students in Year 5
DESCRIPTION:
URL:https://truganinap9.vic.edu.au/event/november-year-5-swimming-program-students-in-year-5/
CATEGORIES:Year 5
END:VEVENT
BEGIN:VEVENT
DTSTART;VALUE=DATE:20231113
DTEND;VALUE=DATE:20231114
DTSTAMP:20260420T151242
CREATED:20231109T004108Z
LAST-MODIFIED:20231109T004108Z
UID:281188-1699833600-1699919999@truganinap9.vic.edu.au
SUMMARY:Year 6 Graduation Rehearsal – Students in Year 6
DESCRIPTION:
URL:https://truganinap9.vic.edu.au/event/year-6-graduation-rehearsal-students-in-year-6/
CATEGORIES:Year 6
END:VEVENT
BEGIN:VEVENT
DTSTART;VALUE=DATE:20231110
DTEND;VALUE=DATE:20231111
DTSTAMP:20260420T151242
CREATED:20231101T003308Z
LAST-MODIFIED:20231107T230607Z
UID:281113-1699574400-1699660799@truganinap9.vic.edu.au
SUMMARY:Year 8 Sport & Rec FLIPOUT Excursion – Selected students in Year 8
DESCRIPTION:
URL:https://truganinap9.vic.edu.au/event/year-8-sport-rec-flipout-excursion-selected-students-in-year-8-2/
CATEGORIES:Year 8
END:VEVENT
BEGIN:VEVENT
DTSTART;VALUE=DATE:20231108
DTEND;VALUE=DATE:20231109
DTSTAMP:20260420T151242
CREATED:20231101T003245Z
LAST-MODIFIED:20231107T230559Z
UID:281112-1699401600-1699487999@truganinap9.vic.edu.au
SUMMARY:Year 8 Sport & Rec FLIPOUT Excursion – Selected students in Year 8
DESCRIPTION:
URL:https://truganinap9.vic.edu.au/event/year-8-sport-rec-flipout-excursion-selected-students-in-year-8/
CATEGORIES:Year 8
END:VEVENT
BEGIN:VEVENT
DTSTART;VALUE=DATE:20231107
DTEND;VALUE=DATE:20231108
DTSTAMP:20260420T151242
CREATED:20231101T003219Z
LAST-MODIFIED:20231101T003219Z
UID:281110-1699315200-1699401599@truganinap9.vic.edu.au
SUMMARY:Public Holiday - No students at school
DESCRIPTION:
URL:https://truganinap9.vic.edu.au/event/public-holiday-no-students-at-school/
END:VEVENT
BEGIN:VEVENT
DTSTART;VALUE=DATE:20231106
DTEND;VALUE=DATE:20231107
DTSTAMP:20260420T151242
CREATED:20231101T003159Z
LAST-MODIFIED:20231101T003159Z
UID:281108-1699228800-1699315199@truganinap9.vic.edu.au
SUMMARY:Curriculum Day - No students at school
DESCRIPTION:
URL:https://truganinap9.vic.edu.au/event/curriculum-day-no-students-at-school/
END:VEVENT
BEGIN:VEVENT
DTSTART;VALUE=DATE:20231026
DTEND;VALUE=DATE:20231027
DTSTAMP:20260420T151242
CREATED:20231023T022700Z
LAST-MODIFIED:20231023T030023Z
UID:280842-1698278400-1698364799@truganinap9.vic.edu.au
SUMMARY:Year 9 Music Workshop Day 2 – Selected students in Year 9
DESCRIPTION:Details…
URL:https://truganinap9.vic.edu.au/event/year-9-music-workshop-day-2-selected-students-in-year-9/
END:VEVENT
BEGIN:VEVENT
DTSTART;VALUE=DATE:20231026
DTEND;VALUE=DATE:20231027
DTSTAMP:20260420T151242
CREATED:20231023T022620Z
LAST-MODIFIED:20231107T225220Z
UID:280840-1698278400-1698364799@truganinap9.vic.edu.au
SUMMARY:Year 6 to 7 Information Night – Year 6 students
DESCRIPTION:Details…
URL:https://truganinap9.vic.edu.au/event/year-6-to-7-information-night-year-6-students/
CATEGORIES:Year 6,Year 7
END:VEVENT
END:VCALENDAR